BEGIN:VCALENDAR
VERSION:2.0
PRODID:-//ChamberMaster//Event Calendar 2.0//EN
METHOD:PUBLISH
X-PUBLISHED-TTL:P3D
REFRESH-INTERVAL:P3D
CALSCALE:GREGORIAN
BEGIN:VEVENT
DTSTART:20230831T030000Z
DTEND:20230831T050000Z
X-MICROSOFT-CDO-ALLDAYEVENT:FALSE
SUMMARY:Joint AMCHAM Women & DEI Committees: "Empower & Elevate" Embrace the Art of Self-Promotion
DESCRIPTION:Step into the spotlight and embrace the world of self-promotion. Leadership coaches will guide our participants in how to lead with your strengths and stand tall in a world that can seek to silence uniqueness. This two-part event will revolutionize the way you understand self-promotion and its immense impact on your personal and professional life. \n\n\n\nPart one: Learn how to lead with your strengths through the Leadership Coaching Development program and Gallup StrengthsFinder - 7 Reasons to Lead with Strengths. By fostering a strengths-based approach\, leaders can forge trust\, surmount challenges\, and harmonize individual aspirations with organizational goals. Unlock the latent potential of sharing your achievements as we delve into seven compelling reasons to lead ourselves\, teams\, and organizations with strengths.\n\n\n\nPart two: Learn to celebrate achievement in the 'Mastering the Art of Self-Promotion' mini workshop\, which develops self-promotion skills\, and how to boost morale and well-being without coming across as boastful. Participants will be encouraged to share their accomplishments\, fostering a surge of self-confidence and self-worth that propels their careers forward.\n\n\n\nLet's rise and shine\, igniting a blaze of brilliance that will illuminate the path to success and recognition for each and every one of us. Together\, we'll paint a vivid canvas of achievement\, embracing every color\, every story\, and every triumph that makes us who we are. This event is not just about blowing your own trumpet\; it's about orchestrating a symphony of achievement and empowering others to do the same!\n\n\n\nWe would like to encourage you to attend this event with a colleague. The workshop format of this event will give you a unique chance to know your peer\, while encouraging you both to take the event insights into your workplace for the future. \n\n\n\nOur Speakers:\n\nKittima J. Supharatsophin (Coach Mod) is a Learning and Development Manager at FORD Motor Company and a sought-after leader in her field. Coach Mod is a Certified ICF Coach ACC\, Professional Certified NLP Trainer\, Certified Hypnosis Trainer\, and Timeline Therapy  Master Practitioner. Her professional coaching area concentrates on empowering individuals to embrace their achievements and overcome self-doubt. Coach Mod's expertise supports personal and professional growth\, making a significant impact and leaving a lasting impact on individuals' lives.\n\n\n\nBenjaporn Techapreechawong (Coach Bento)\, Ph.D. is a Founder and Managing Director at New Age Training & Coaching and a certified professional coach with over 600 coaching hours. Her expertise includes Strength-based Coaching\, Transformation Coaching\, Group & Team Coaching\, and Buddhist Integration Coaching. As a Professional Certified Coach (PCC) by International Coaching Federation (ICF)\, she has delivered impactful workshops and worked with prominent organizations. She also serves as an instructor\, sharing her knowledge with aspiring coaches at institutions in Thailand Coach Institute and New Age Training & Coaching. Coach Bento is dedicated and committed to helping individuals and organizations achieve their highest potential and create meaningful transformation.\n\n\n\nSarochinee Poonsawasd (Coach Aimmy) is a Managing Director and People and Organizational Transformation Consultant at AIM for Growth Company. As a Professional Certified Coach (PCC) accredited by International Coaching Federation (ICF)\, Coach Aimmy possesses a wealth of expertise in coaching methodologies and practices\, providing invaluable guidance and development to leaders and practitioners in various coaching roles. Her dedication to professional excellence and her commitment to empowering individuals and organizations have earned her recognition.
X-ALT-DESC;FMTTYPE=text/html:<p>Step into the spotlight and embrace the world of self-promotion. Leadership coaches will guide our participants in how to lead with your strengths and stand tall in a world that can seek to silence uniqueness. This two-part event will revolutionize the way you understand self-promotion and its immense impact on your personal and professional life.&nbsp\;<br />\n<br />\n<strong>Part one</strong>: Learn how to lead with your strengths through the Leadership Coaching Development program and Gallup StrengthsFinder - 7 Reasons to Lead with Strengths. By fostering a strengths-based approach\, leaders can forge trust\, surmount challenges\, and harmonize individual aspirations with organizational goals. Unlock the latent potential of sharing your achievements as we delve into seven compelling reasons to lead ourselves\, teams\, and organizations with strengths.<br />\n<br />\n<strong>Part two</strong>: Learn to celebrate achievement in the &#39\;Mastering the Art of Self-Promotion&#39\; mini workshop\, which develops self-promotion skills\, and how to boost morale and well-being without coming across as boastful. Participants will be encouraged to share their accomplishments\, fostering a surge of self-confidence and self-worth that propels their careers forward.<br />\n<br />\nLet&#39\;s rise and shine\, igniting a blaze of brilliance that will illuminate the path to success and recognition for each and every one of us. Together\, we&#39\;ll paint a vivid canvas of achievement\, embracing every color\, every story\, and every triumph that makes us who we are. This event is not just about blowing your own trumpet\; it&#39\;s about orchestrating a symphony of achievement and empowering others to do the same!<br />\n<br />\nWe would like to encourage you to attend this event with a colleague. The workshop format of this event will give you a unique chance to know your peer\, while encouraging you both to take the event insights into your workplace for the future.<span style="font-size:10.0pt\;"> </span><br />\n<br />\n<strong>Our Speakers:<br />\n<a href="https://www.linkedin.com/in/kittima-jai-orn-supharatsophin-a885b23a/">Kittima J. Supharatsophin</a>&nbsp\;(Coach Mod)</strong>&nbsp\;is a Learning and Development Manager at FORD Motor Company and a sought-after leader in her field. Coach Mod is a Certified ICF Coach ACC\, Professional Certified NLP Trainer\, Certified Hypnosis Trainer\, and Timeline Therapy&reg\; Master Practitioner. Her professional coaching area concentrates on empowering individuals to embrace their achievements and overcome self-doubt. Coach Mod&#39\;s expertise supports personal and professional growth\, making a significant impact and leaving a lasting impact on individuals&#39\; lives.<br />\n<br />\n<a href="https://www.linkedin.com/in/benjaporn-techapreechawong-ph-d-pcc-gcsc-67283b1b3/"><strong>Benjaporn Techapreechawong</strong></a>&nbsp\;<strong>(Coach Bento)\, Ph.D.</strong>&nbsp\;is a Founder and Managing Director at New Age Training &amp\; Coaching and a certified professional coach with over 600 coaching hours. Her expertise includes Strength-based Coaching\, Transformation Coaching\, Group &amp\; Team Coaching\, and Buddhist Integration Coaching. As a Professional Certified Coach (PCC) by International Coaching Federation (ICF)\, she has delivered impactful workshops and worked with prominent organizations. She also serves as an instructor\, sharing her knowledge with aspiring coaches at institutions in Thailand Coach Institute and New Age Training &amp\; Coaching. Coach Bento is dedicated and committed to helping individuals and organizations achieve their highest potential and create meaningful transformation.<br />\n<br />\n<a href="https://www.linkedin.com/in/sarochinee-poonsawasd-119a2145/"><strong>Sarochinee Poonsawasd</strong>&nbsp\;</a><strong>(Coach Aimmy)&nbsp\;</strong>is a Managing Director and People and Organizational Transformation Consultant at AIM for Growth Company. As a Professional Certified Coach (PCC) accredited by International Coaching Federation (ICF)\, Coach Aimmy possesses a wealth of expertise in coaching methodologies and practices\, providing invaluable guidance and development to leaders and practitioners in various coaching roles. Her dedication to professional excellence and her commitment to empowering individuals and organizations have earned her recognition.</p>\n
LOCATION:True Digital Park West\, 2nd Floor\, Classroom 7 BTS: Punnawithi (direct exit to True Digital Park)
UID:e.3314.2597
SEQUENCE:3
DTSTAMP:20260419T202112Z
URL:http://www.connect.amchamthailand.com/events/details/joint-amcham-women-dei-committees-empower-elevate-embrace-the-art-of-self-promotion-2597
END:VEVENT

END:VCALENDAR
