BEGIN:VCALENDAR
VERSION:2.0
PRODID:-//ChamberMaster//Event Calendar 2.0//EN
METHOD:PUBLISH
X-PUBLISHED-TTL:P3D
REFRESH-INTERVAL:P3D
CALSCALE:GREGORIAN
BEGIN:VEVENT
DTSTART:20220215T100000Z
DTEND:20220215T133000Z
X-MICROSOFT-CDO-ALLDAYEVENT:FALSE
SUMMARY:Joint AMCHAM Women & YPC Networking: Finding the Missing Rung
DESCRIPTION:Through recent years\, we have all learnt the benefits of diversity & inclusion practices\, how they can help us avoid group think and generate a wider range of solution ideas for issues. Similarly\, we all know that we should get 8 hours of sleep\, drink 8 glasses of water a day\, and limit our carbohydrate intake\, yet\, it is harder to walk the walk than to just talk the talk. As the pandemic starts to subside\, many leaders and role models have taken a top-down approach to make D&I a new normal\, but are still struggling to do so.  While many glass ceilings have been broken through the appointments of women and minorities in key management roles\, however\, there is still more actions that each individual can do. Join us for a courageous conversation with Thailand's leading executives to learn how each one of us can play a role in making our society a more diverse and inclusive place\, where everyone can truly be themselves without any fear of repercussion.\n\n\n\nSpeakers: \n\n1. Nok Maneerut Anulomsombut\, CEO\, SEA Ltd. Thailand\n\nNok Maneerut Anulomsombut joined SEA Ltd. in March 2014 and has served as the chief executive officer of SEA Thailand since March 2016. Nok previously served as the chief operating officer of SEA Thailand. Prior to joining the company\, Nok was a management consultant at The Boston Consulting Group in Bangkok from March 2009 to February 2014. Prior to joining The Boston Consulting Group\, Nok worked at financial and fashion companies in Thailand. Nok holds an M.B.A. degree from Stanford University's Graduate School of Business and a bachelor's degree in Industrial Engineering from Chulalongkorn University in Thailand.\n\n \n\n2. Prae Dumrongmongcolgul\, Country Director\, Facebook Thailand.\n\nPrae Dumrongmongcolgul joined Meta in June 2020 and has since served as the Country Director of Facebook Thailand. Prae was previously the Managing Director and Partner at The Boston Consulting Group. Prae holds an M.B.A. degree from the Wharton School of the University of Pennsylvania and a bachelor's degree in Systems Engineering from the University of Virginia.\n\n \n\n3. April Srivikorn\, Country Manager\, Google Cloud Thailand.\n\nApril Srivikorn  joined Google in April 2016 and has served as the Country Manager since May 2020. April previously served as the Executive Vice President and Chief Strategy Officer of Central Pattana Public Company Limited. April started her career as a management consultant at McKinsey & Company focusing on basic materials companies in emerging markets. April holds an M.B.A. degree from Stanford University's Graduate School of Business and a bachelor's degree in Economics and Psychology from Stanford University.\n\n\n\nAgenda:\n\n5 pm     Registration\n\n6 pm     Panel Discussion\n\n7 pm     Networking
X-ALT-DESC;FMTTYPE=text/html:Through recent years\, we have all learnt the benefits of diversity &amp\; inclusion practices\, how they can help us avoid group think and generate a wider range of solution ideas for issues. Similarly\, we all know that we should get 8 hours of sleep\, drink 8 glasses of water a day\, and limit our carbohydrate intake\, yet\, it is harder to walk the walk than to just talk the talk. As the pandemic starts to subside\, many leaders and role models have taken a top-down approach to make D&amp\;I a new normal\, but are still struggling to do so. &nbsp\;While many glass ceilings have been broken through the appointments of women and minorities in key management roles\, however\, there is still more actions that each individual can do. Join us for a courageous conversation with Thailand&rsquo\;s leading executives to learn how each one of us can play a role in making our society a more diverse and inclusive place\, where everyone can truly be themselves without any fear of repercussion.<br />\n<br />\n<strong>Speakers: </strong><br />\n1. <strong><a href="https://www.linkedin.com/in/nok-anulomsombut-51650b7/">Nok Maneerut Anulomsombut</a></strong>\, CEO\, SEA Ltd. Thailand<br />\nNok Maneerut Anulomsombut joined SEA Ltd. in March 2014 and has served as the chief executive officer of SEA Thailand since March 2016. Nok previously served as the chief operating officer of SEA Thailand. Prior to joining the company\, Nok was a management consultant at The Boston Consulting Group in Bangkok from March 2009 to February 2014. Prior to joining The Boston Consulting Group\, Nok worked at financial and fashion companies in Thailand. Nok holds an M.B.A. degree from Stanford University&rsquo\;s Graduate School of Business and a bachelor&rsquo\;s degree in Industrial Engineering from Chulalongkorn University in Thailand.<br />\n&nbsp\;<br />\n2. <strong><a href="https://www.linkedin.com/in/prae-dumrongmongcolgul-734b8a1/">Prae Dumrongmongcolgu</a>l</strong>\, Country Director\, Facebook Thailand.<br />\nPrae Dumrongmongcolgul joined Meta in June 2020 and has since served as the Country Director of Facebook Thailand. Prae was previously the Managing Director and Partner at The Boston Consulting Group. Prae holds an M.B.A. degree from the Wharton School of the University of Pennsylvania and a bachelor&rsquo\;s degree in Systems Engineering from the University of Virginia.<br />\n&nbsp\;<br />\n3. <strong><a href="https://www.linkedin.com/in/april-srivikorn-a333602/">April Srivikorn</a></strong>\, Country Manager\, Google Cloud Thailand.<br />\nApril Srivikorn &nbsp\;joined Google in April 2016 and has served as the Country Manager since May 2020. April previously served as the Executive Vice President and Chief Strategy Officer of Central Pattana Public Company Limited. April started her career as a management consultant at McKinsey &amp\; Company focusing on basic materials companies in emerging markets. April holds an M.B.A. degree from Stanford University&rsquo\;s Graduate School of Business and a bachelor&rsquo\;s degree in Economics and Psychology from Stanford University.<br />\n<br />\n<strong>Agenda:</strong><br />\n5 pm&nbsp\;&nbsp\;&nbsp\;&nbsp\; Registration<br />\n6 pm &nbsp\;&nbsp\;&nbsp\;&nbsp\;Panel Discussion<br />\n7 pm &nbsp\;&nbsp\;&nbsp\;&nbsp\;Networking
LOCATION:The Astor Ball Room\, The St. Regis Bangkok BTS: Rajdamri station
UID:e.3314.2103
SEQUENCE:3
DTSTAMP:20260421T051443Z
URL:http://www.connect.amchamthailand.com/events/details/joint-amcham-women-ypc-networking-finding-the-missing-rung-2103
END:VEVENT

END:VCALENDAR
