BEGIN:VCALENDAR
VERSION:2.0
PRODID:-//ChamberMaster//Event Calendar 2.0//EN
METHOD:PUBLISH
X-PUBLISHED-TTL:P3D
REFRESH-INTERVAL:P3D
CALSCALE:GREGORIAN
BEGIN:VEVENT
DTSTART:20221128T023000Z
DTEND:20221128T033000Z
X-MICROSOFT-CDO-ALLDAYEVENT:FALSE
SUMMARY:Joint AMCHAMs Event: The Importance of Collaborative Partnerships in Achieving Environmental Sustainability
DESCRIPTION:The global climate crisis has created significant impacts on businesses and governments around the world\, driving collaborative efforts to address environmental challenges and achieve energy security.\n\n \n\nJoin AMCHAM Thailand\, AmCham Singapore\, and AMCHAM Malaysia in welcoming Chong Kian Fatt (KF)\, Senior Vice President for Global Operations of Seagate Technology\, and learn how Seagate Technology\, a global leader in data storage hardware\, software\, and systems\, promotes sustainability through the company's business practices. KF will describe how the company has developed sustainable operations\, sustainable product design\, as well as sustainable product use and end of life\, through best practices\, standards\, and global collaboration.\n\n\n\nThank you to Seagate Technology for your generous sponsorship of the event.\n\n \n\nAbout the Speaker:\n\n \n\nChong Kian Fatt is the Senior Vice President of Seagate Technology. He oversees the company's Global Operations and manages the business out of Singapore.\n\nKF has been with Seagate since 1989 when he started as an intern engineer. Throughout his career with Seagate\, he had led various engineering and operations leadership roles in Singapore before being posted to Wuxi\, China in 2002 to expand the operations. Currently\, his role has been expanded beyond Asia with international responsibilities\, covering an extensive global footprint from China\, Malaysia\, Singapore\, and Thailand\, to UK and USA.\n\nKF graduated with a Bachelor's degree in Electrical Engineering from the National University of Singapore.
X-ALT-DESC;FMTTYPE=text/html:The global climate crisis has created significant impacts on businesses and governments around the world\, driving collaborative efforts to address environmental challenges and achieve energy security.<br />\n&nbsp\;<br />\nJoin AMCHAM Thailand\, AmCham Singapore\, and AMCHAM Malaysia in welcoming Chong Kian Fatt (KF)\, Senior Vice President for Global Operations of Seagate Technology\, and learn how Seagate Technology\, a global leader in data storage hardware\, software\, and systems\, promotes sustainability through the company&#39\;s business practices. KF will describe how the company has developed sustainable operations\, sustainable product design\, as well as sustainable product use and end of life\, through best practices\, standards\, and global collaboration.<br />\n<br />\nThank you to Seagate Technology for your generous sponsorship of the event.<br />\n&nbsp\;<br />\n<strong>About the Speaker:</strong><br />\n&nbsp\;<br />\n<strong>Chong Kian Fatt</strong> is the Senior Vice President of Seagate Technology. He oversees the company&#39\;s Global Operations and manages the business out of Singapore.<br />\nKF has been with Seagate since 1989 when he started as an intern engineer. Throughout his career with Seagate\, he had led various engineering and operations leadership roles in Singapore before being posted to Wuxi\, China in 2002 to expand the operations. Currently\, his role has been expanded beyond Asia with international responsibilities\, covering an extensive global footprint from China\, Malaysia\, Singapore\, and Thailand\, to UK and USA.<br />\nKF graduated with a Bachelor&#39\;s degree in Electrical Engineering from the National University of Singapore.
LOCATION:Online Webinar
UID:e.3314.2321
SEQUENCE:3
DTSTAMP:20260420T142323Z
URL:http://www.connect.amchamthailand.com/events/details/joint-amchams-event-the-importance-of-collaborative-partnerships-in-achieving-environmental-sustainability-2321
END:VEVENT

END:VCALENDAR
