BEGIN:VCALENDAR
VERSION:2.0
PRODID:-//ChamberMaster//Event Calendar 2.0//EN
METHOD:PUBLISH
X-PUBLISHED-TTL:P3D
REFRESH-INTERVAL:P3D
CALSCALE:GREGORIAN
BEGIN:VEVENT
DTSTART:20230811T113000Z
DTEND:20230811T143000Z
X-MICROSOFT-CDO-ALLDAYEVENT:FALSE
SUMMARY:Joint BCCT and AMCHAM Young Professionals Extra: Tee-Up and Connect
DESCRIPTION:Please be advised that this function is a partner event with an external organizer. The registration link will send you away from the AMCHAM website to the website of the organizer.  Please be advised that this event organizer may have different data collection/privacy and event cancellation policies than AMCHAM Thailand.\n\nREGISTER NOW\n\n\n\nBCCT\, in collaboration with AMCHAM's Young Professionals Committee\, invites you to an unforgettable networking evening at Topgolf! \n\n\n\nLooking for a unique and exciting way to network with like-minded individuals? We've got you covered! Get ready to tee off your connections and swing into an evening of fun\, friendship\, and professional growth at our exclusive networking event at Topgolf.\n\n\n\nHere's why you won't want to miss out:\n\n1. Unleash Your Inner Golfer: Whether you're a seasoned pro or a first-timer\, Topgolf offers an exhilarating golfing experience suitable for all skill levels. Brush up on your swing\, challenge your peers\, and showcase your skills in a vibrant and friendly atmosphere.\n\n\n\n2. Forge Lasting Connections: Connect with a diverse community of ambitious young professionals who share your drive for success. Exchange ideas\, insights\, and business cards while enjoying the thrilling Topgolf environment. Expand your network and cultivate valuable relationships that can propel your career to new heights.\n\n\n\n3. Unwind and Recharge: Take a break from the daily grind and treat yourself to an evening of entertainment and relaxation. Enjoy delicious food\, refreshing drinks\, and lively conversations in an atmosphere buzzing with energy.\n\n\n\nGrab your spot at this fantastic event for a bargain price\, and unlock a world of opportunities.\n\n \n\nPayment:\n\n\n	Online Payment options are available when confirming your booking (recommended). Online payment when you book is the simplest way to do this.\n	Bank transfer is also available to Kasikorn bank 709-2-36464-4 and email finance@bccthai.com  to verify for a receipt.\n\n\nPayment & cancellation policy:\n\n\n	Advance payment is required to confirm your registration and if payment not made 24 hours before event\, your place will be passed on to the waiting list. No walk-ins.\n	Cancellations received less than 24 hours (1 day) and no-shows are NOT able to receive neither a refund nor credit.\n	Payment is required at the time of booking. At any other time will incur a higher fee
X-ALT-DESC;FMTTYPE=text/html:<p>Please be advised that this function is a partner event with an external organizer. The registration link will send you away from the AMCHAM website to the website of the organizer.&#8203\; Please be advised that this event organizer may have different data collection/privacy and event cancellation policies than AMCHAM Thailand.</p>\n\n<p><a href="https://members.bccthai.com/BCCT/asp/eventbook.asp?member=N&amp\;EventID=4188"><span style="font-size:16px\;"><span style="font-family:arial\;"><strong><span style="color:#000080\;">REGISTER NOW</span></strong></span></span></a><br />\n<br />\nBCCT\, in collaboration with AMCHAM&rsquo\;s Young Professionals Committee\, invites you to an unforgettable networking evening at Topgolf!&nbsp\;<br />\n<br />\nLooking for a unique and exciting way to network with like-minded individuals? We&#39\;ve got you covered! Get ready to tee off your connections and swing into an evening of fun\, friendship\, and professional growth at our exclusive networking event at Topgolf.<br />\n<br />\n<strong>Here&#39\;s why you won&#39\;t want to miss out:</strong><br />\n1. Unleash Your Inner Golfer: Whether you&#39\;re a seasoned pro or a first-timer\, Topgolf offers an exhilarating golfing experience suitable for all skill levels. Brush up on your swing\, challenge your peers\, and showcase your skills in a vibrant and friendly atmosphere.<br />\n<br />\n2. Forge Lasting Connections: Connect with a diverse community of ambitious young professionals who share your drive for success. Exchange ideas\, insights\, and business cards while enjoying the thrilling Topgolf environment. Expand your network and cultivate valuable relationships that can propel your career to new heights.<br />\n<br />\n3. Unwind and Recharge: Take a break from the daily grind and treat yourself to an evening of entertainment and relaxation. Enjoy delicious food\, refreshing drinks\, and lively conversations in an atmosphere buzzing with energy.<br />\n<br />\nGrab your spot at this fantastic event for a bargain price\, and unlock a world of opportunities.<br />\n&nbsp\;</p>\n\n<p><strong>Payment:</strong></p>\n\n<ul>\n	<li><strong>Online Payment&nbsp\;</strong>options are available when confirming your booking (recommended). Online payment when you book is the simplest way to do this.</li>\n	<li><strong>Bank transfer</strong>&nbsp\;is also available to Kasikorn bank 709-2-36464-4 and email finance@bccthai.com&nbsp\; to verify for a receipt.</li>\n</ul>\n\n<p><strong>Payment &amp\; cancellation policy:</strong></p>\n\n<ul>\n	<li><strong>Advance payment</strong>&nbsp\;is required to confirm your registration and if payment not made 24 hours before event\, your place will be passed on to the waiting list. No walk-ins.</li>\n	<li><strong>Cancellations</strong>&nbsp\;received less than 24 hours (1 day) and no-shows are NOT able to receive neither a refund nor credit.</li>\n	<li><strong>Payment</strong>&nbsp\;is required at the time of booking. At any other time will incur a higher fee</li>\n</ul>\n\n<p>&nbsp\;</p>\n
LOCATION:Topgolf Megacity Udomsuk BTS Station exit 5 - Shuttle bus available every 30 minutes
UID:e.3314.2595
SEQUENCE:3
DTSTAMP:20260419T201731Z
URL:http://www.connect.amchamthailand.com/events/details/joint-bcct-and-amcham-young-professionals-extra-tee-up-and-connect-2595
END:VEVENT

END:VCALENDAR
