BEGIN:VCALENDAR
VERSION:2.0
PRODID:-//ChamberMaster//Event Calendar 2.0//EN
METHOD:PUBLISH
X-PUBLISHED-TTL:P3D
REFRESH-INTERVAL:P3D
CALSCALE:GREGORIAN
BEGIN:VEVENT
DTSTART:20230314T110000Z
DTEND:20230314T140000Z
X-MICROSOFT-CDO-ALLDAYEVENT:FALSE
SUMMARY:Joint Chamber AustCham & AMCHAM: Digital Marketing Business Briefing: "Do You Know Thai Consumers as Well as You Think?
DESCRIPTION:REGISTER NOW\n\n\n\nAustCham Thailand and AMCHAM Thailand would like to invite our members and guests to attend a business briefing on "Do you know Thai consumers as well as you think?". Join us to hear from speakers from the Thailand Marketing Research Society (TMRS).\n\n \n\nThe Thailand Marketing Research Society (TMRS) is the professional body for the market research and insights industry in Thailand. Every couple of years they combine the latest government data and findings from their members to develop the Socio Economic Class report. This details the changing demographics\, household spending and technology shifts happening across the Thai population. In this special event three leaders of the TMRS will share the biggest changes happening to the population\, the implications to marketing\, communications and business. Special emphasis will be placed on understanding the three biggest dynamics: rural population changes\, the booming aging populations and the Gen Y age groups. \n\n\n\nSpeakers: \n\n  Nicha Tanksul\, President of the TMRS and Managing Director at Custom Asia\n\n  Grant Bertolli\, Past President of the TMRS and CEO at Marketbuzz at Buzzebees \n\n  Dave McCaughan\, Founder and Board member TMRS\, Storyteller at Bibliosexua
X-ALT-DESC;FMTTYPE=text/html:<div><a href="https://www.austchamthailand.com/event/14-mar-austcham-digital-marketing-committee-briefing-do-you-know-thai-consumers-as-well-as-you-think/"><span style="font-size: 12px\;"><span style="font-family: arial\;"><strong><span style="color: rgb(0\, 0\, 128)\;">REGISTER NOW</span></strong></span></span></a><br />\n<br />\nAustCham Thailand and AMCHAM Thailand would like to invite our members and guests to attend a business briefing on &ldquo\;Do you know Thai consumers as well as you think?&quot\;. Join us to hear from speakers from the Thailand Marketing Research Society (TMRS).<br />\n&nbsp\;</div>\n\n<div>The Thailand Marketing Research Society (TMRS) is the professional body for the market research and insights industry in Thailand. Every couple of years they combine the latest government data and findings from their members to develop the Socio Economic Class report. This details the changing demographics\, household spending and technology shifts happening across the Thai population. In this special event three leaders of the TMRS will share the biggest changes happening to the population\, the implications to marketing\, communications and business. Special emphasis will be placed on understanding the three biggest dynamics: rural population changes\, the booming aging populations and the Gen Y age groups.&nbsp\;</div>\n\n<div><br />\n<strong>Speakers:</strong>&nbsp\;</div>\n\n<div>&bull\;<span style="white-space:pre"> </span>Nicha Tanksul\, President of the TMRS and Managing Director at Custom Asia</div>\n\n<div>&bull\;<span style="white-space:pre"> </span>Grant Bertolli\, Past President of the TMRS and CEO at Marketbuzz at Buzzebees&nbsp\;</div>\n\n<div>&bull\;<span style="white-space:pre"> </span>Dave McCaughan\, Founder and Board member TMRS\, Storyteller at Bibliosexua</div>\n
LOCATION:The Okura Prestige Bangkok
UID:e.3314.2508
SEQUENCE:3
DTSTAMP:20260420T052118Z
URL:http://www.connect.amchamthailand.com/events/details/joint-chamber-austcham-amcham-digital-marketing-business-briefing-do-you-know-thai-consumers-as-well-as-you-think-2508
END:VEVENT

END:VCALENDAR
