BEGIN:VCALENDAR
VERSION:2.0
PRODID:-//ChamberMaster//Event Calendar 2.0//EN
METHOD:PUBLISH
X-PUBLISHED-TTL:P3D
REFRESH-INTERVAL:P3D
CALSCALE:GREGORIAN
BEGIN:VEVENT
DTSTART:20220311T110000Z
DTEND:20220311T140000Z
X-MICROSOFT-CDO-ALLDAYEVENT:FALSE
SUMMARY:Joint Chambers Australia Day Phuket Sundowners
DESCRIPTION:REGISTER NOW\n\nAustCham Thailand\, in collaboration with Australian Alumni\, American Chamber of Commerce in Thailand (AMCHAM)\, British Chamber of Commerce Thailand (BCCT)\, Belgian-Luxembourg/Thai Chamber of Commerce\, CanCham Thailand\, Franco-Thai Chamber of Commerce (FTCC)\, German-Thai Chamber of Commerce (GTCC) and the Netherlands-Thai Chamber of Commerce (NTCC)\, is delighted to invite you to join us for "Australia Day Phuket Sundowners" at JW Marriott Phuket Resort & Spa\, on Friday 28 January 2022\, from 18.00 - 21.00 hrs.\n\nA celebration of all things Australian\, join us for your favourite Australian food & beverages\, and welcome in the New Year as the first business networking event in Phuket of 2022!\n\n*Please note that the attendees will be asked for their COVID-19 vaccination or ATK / RT-PCR certification to show on entry to the event*
X-ALT-DESC;FMTTYPE=text/html:<p><span style="font-size:14px\;"><a href="https://www.austchamthailand.com/event/28-jan-joint-chambers-australia-day-phuket-sundowners/"><span style="font-family:arial\;"><strong><span style="color:#000080\;">REGISTER NOW</span></strong></span></a></span></p>\n\n<p font-size:="" line-height:="" open="">AustCham Thailand\, in collaboration with Australian Alumni\,&nbsp\;American Chamber of Commerce in Thailand (AMCHAM)\,&nbsp\;British Chamber of Commerce Thailand (BCCT)\, Belgian-Luxembourg/Thai Chamber of Commerce\, CanCham Thailand\, Franco-Thai Chamber of Commerce (FTCC)\, German-Thai Chamber of Commerce (GTCC) and the Netherlands-Thai Chamber of Commerce (NTCC)\,&nbsp\;is delighted to invite you to join us for &ldquo\;Australia Day Phuket Sundowners&rdquo\; at&nbsp\;JW Marriott Phuket Resort &amp\; Spa\, on Friday 28 January 2022\, from 18.00 - 21.00 hrs.</p>\n\n<p font-size:="" line-height:="" open="">A celebration of all things Australian\, join us for your favourite Australian food &amp\; beverages\, and welcome in the New Year as the first business networking event in Phuket of 2022!</p>\n\n<p font-size:="" open=""><em>*Please note that the attendees will be asked for their COVID-19 vaccination or ATK / RT-PCR certification to show on entry to the event*</em></p>\n
LOCATION:JW Marriott Phuket Resort & Spa
UID:e.3314.2116
SEQUENCE:3
DTSTAMP:20260421T032330Z
URL:http://www.connect.amchamthailand.com/events/details/joint-chambers-australia-day-phuket-sundowners-2116
END:VEVENT

END:VCALENDAR
