BEGIN:VCALENDAR
VERSION:2.0
PRODID:-//ChamberMaster//Event Calendar 2.0//EN
METHOD:PUBLISH
X-PUBLISHED-TTL:P3D
REFRESH-INTERVAL:P3D
CALSCALE:GREGORIAN
BEGIN:VEVENT
DTSTART:20220513T110000Z
DTEND:20220513T140000Z
X-MICROSOFT-CDO-ALLDAYEVENT:FALSE
SUMMARY:Joint Chambers Chiang Mai Sundowners
DESCRIPTION:REGISTER NOW\n\n\n\nAustCham Thailand\, in collaboration with Australian Alumni\, AMCHAM Thailand\, and partner chambers\, is delighted to invite you to join us for "Joint Chambers Chiang Mai Sundowners" at Anantara Chiang Mai Resort\, on Friday May 13\, 2022\, from 18.00 - 21.00 hrs.\n\n\n\nEVENT DETAILS:\n\n\n\nWhen: Friday 13 May 2022 || 18:00 - 21:00 hrs.\n\nWhere: Anantara Chiang Mai Resort\n\n\n\nHow much does it cost: \n\n\n\n500 THB for  AMCHAM members\, AustCham members\, partner Chambers' members\, and Australian Alumni Members**\n\n900 THB for non-members\n\n\n\nAccommodation: \n\n\n\nSpecial offer for AustCham\, AMCHAM Thailand\, partner chambers\, and Alumni members here\n\n*Limited capacity\, so book early to avoid disappointment\n\n**For registration code for Australian Alumni members\, please contact AustCham team at  02 109 9616 or email to office@austchamthailand.com\n\n***includes cocktail-style food\, and free-flow adult beverages and soft drinks** \n\n\n\nPlease register in advance\, as walk-ins are not allowed for this event\n\nLimited spaces\, please book early to avoid disappointment\n\n\n\nCOVID-19 Requirements: Attendees must be able to show proof of at least double vaccinated and a Negative test result (ATK/RT-PCR) conducted within 24 hours of arriving at the event.\n\n\n\nPlease see here for more details: AustCham's COVID-19 Guidelines for events
X-ALT-DESC;FMTTYPE=text/html:<p><a href="https://www.austchamthailand.com/event/postponed-21-jan-joint-chambers-chiang-mai-sundowners-hosted-austcham/"><span style="font-size:12px\;"><span style="font-family:arial\;"><strong><span style="color:#000080\;">REGISTER NOW</span></strong></span></span></a></p>\n\n<p><br />\nAustCham Thailand\, in collaboration with Australian Alumni\, AMCHAM Thailand\, and partner chambers\, is delighted to invite you to join us for &ldquo\;Joint Chambers Chiang Mai Sundowners&rdquo\; at Anantara Chiang Mai Resort\, on Friday May 13\, 2022\, from 18.00 - 21.00 hrs.<br />\n<br />\nEVENT DETAILS:<br />\n<br />\nWhen: Friday 13 May 2022 || 18:00 - 21:00 hrs.<br />\nWhere: Anantara Chiang Mai Resort<br />\n<br />\nHow much does it cost:&nbsp\;<br />\n<br />\n500 THB for&nbsp\; AMCHAM members\, AustCham members\, partner Chambers&#39\; members\, and Australian Alumni Members**<br />\n900 THB for non-members<br />\n<br />\nAccommodation:&nbsp\;<br />\n<br />\nSpecial offer for AustCham\, AMCHAM Thailand\, partner chambers\, and Alumni members here<br />\n*Limited capacity\, so book early to avoid disappointment<br />\n**For registration code for Australian Alumni members\, please contact AustCham team at&nbsp\; 02 109 9616 or email to office@austchamthailand.com<br />\n***includes cocktail-style food\, and free-flow adult beverages and soft drinks**&nbsp\;<br />\n<br />\nPlease register in advance\, as walk-ins are not allowed for this event<br />\nLimited spaces\, please book early to avoid disappointment<br />\n<br />\n<strong>COVID-19 Requirements: Attendees must be able to show proof of at least double vaccinated and a Negative test result (ATK/RT-PCR) conducted within 24 hours of arriving at the event.</strong><br />\n<br />\n<a href="https://mcusercontent.com/6f16b904b2d89903507f3ad01/files/e21fb9b8-5427-21ff-b072-d18e37789f43/AustCham_COVID_19_Guidelines_T0_T1_Contact_Tracing_Feb_22.pdf">Please see here for more details: AustCham&rsquo\;s COVID-19 Guidelines for events</a><br />\n&nbsp\;</p>\n\n<p>&nbsp\;</p>\n
LOCATION:Anantara Chiang Mai Resort
UID:e.3314.2192
SEQUENCE:3
DTSTAMP:20260420T235442Z
URL:http://www.connect.amchamthailand.com/events/details/joint-chambers-chiang-mai-sundowners-2192
END:VEVENT

END:VCALENDAR
