BEGIN:VCALENDAR
VERSION:2.0
PRODID:-//ChamberMaster//Event Calendar 2.0//EN
METHOD:PUBLISH
X-PUBLISHED-TTL:P3D
REFRESH-INTERVAL:P3D
CALSCALE:GREGORIAN
BEGIN:VEVENT
DTSTART:20221202T110000Z
DTEND:20221202T140000Z
X-MICROSOFT-CDO-ALLDAYEVENT:FALSE
SUMMARY:Joint Chambers Chiang Mai Sundowners
DESCRIPTION:AustCham Thailand\, in collaboration with AMCHAM\, Australian Alumni and partner chambers\, is delighted to invite you to join us for the Joint Chambers Chiang Mai Sundowners at Meli  Chiang Mai\, on Friday 2 December 2022
X-ALT-DESC;FMTTYPE=text/html:<span style="color:#282828\;"><span style="font-family:arial\,sans-serif\;"><span style="font-size:10.5pt\;">AustCham Thailand\, in collaboration with AMCHAM\, Australian Alumni and partner chambers\, is delighted to invite you to join us for the Joint Chambers Chiang Mai Sundowners at Meli&aacute\; Chiang Mai\, on Friday 2 December 2022</span></span></span><br />\n&nbsp\;
LOCATION:Meli Chiang Mai
UID:e.3314.2322
SEQUENCE:3
DTSTAMP:20260420T104950Z
URL:http://www.connect.amchamthailand.com/events/details/joint-chambers-chiang-mai-sundowners-2322
END:VEVENT

END:VCALENDAR
