BEGIN:VCALENDAR
VERSION:2.0
PRODID:-//ChamberMaster//Event Calendar 2.0//EN
METHOD:PUBLISH
X-PUBLISHED-TTL:P3D
REFRESH-INTERVAL:P3D
CALSCALE:GREGORIAN
BEGIN:VEVENT
DTSTART:20211209T110000Z
DTEND:20211209T140000Z
X-MICROSOFT-CDO-ALLDAYEVENT:FALSE
SUMMARY:Joint Chambers Christmas Phuket Sundowners hosted by AustCham
DESCRIPTION:REGISTER NOW\n\n\n\nAustCham Thailand\, in collaboration with Australian Alumni\, American Chamber of Commerce in Thailand (AMCHAM)\, British Chamber of Commerce Thailand (BCCT)\, Belgian-Luxembourg/Thai Chamber of Commerce\, Franco-Thai Chamber of Commerce (FTCC)\, German-Thai Chamber of Commerce (GTCC) and the Netherlands-Thai Chamber of Commerce (NTCC)\, is delighted to invite you to join us for "Christmas Phuket Sundowners" at Hilton Phuket Arcadia Resort & Spa\, on Thursday 9 December 2021\, from 18.00 - 21.00 hrs.
X-ALT-DESC;FMTTYPE=text/html:<p><span style="font-size:14px\;"><a href="https://www.austchamthailand.com/event/9-dec-joint-chambers-christmas-phuket-sundowners-hosted-by-austcham/"><span style="font-family:arial\;"><strong><span style="color:#000080\;">REGISTER NOW</span></strong></span></a></span><br />\n<br />\nAustCham Thailand\, in collaboration with Australian Alumni\,&nbsp\;American Chamber of Commerce in Thailand (AMCHAM)\,&nbsp\;British Chamber of Commerce Thailand (BCCT)\, Belgian-Luxembourg/Thai Chamber of Commerce\, Franco-Thai Chamber of Commerce (FTCC)\, German-Thai Chamber of Commerce (GTCC) and the Netherlands-Thai Chamber of Commerce (NTCC)\,&nbsp\;is delighted to invite you to join us for &ldquo\;Christmas Phuket Sundowners&rdquo\; at&nbsp\;Hilton Phuket Arcadia Resort &amp\; Spa\, on Thursday 9 December 2021\, from 18.00 - 21.00 hrs.</p>\n
LOCATION:OBC Sandcourt\, Hilton Phuket Arcadia Resort & Spa
UID:e.3314.2112
SEQUENCE:3
DTSTAMP:20260421T085957Z
URL:http://www.connect.amchamthailand.com/events/details/joint-chambers-christmas-phuket-sundowners-hosted-by-austcham-2112
END:VEVENT

END:VCALENDAR
