BEGIN:VCALENDAR
VERSION:2.0
PRODID:-//ChamberMaster//Event Calendar 2.0//EN
METHOD:PUBLISH
X-PUBLISHED-TTL:P3D
REFRESH-INTERVAL:P3D
CALSCALE:GREGORIAN
BEGIN:VEVENT
DTSTART:20221118T110000Z
DTEND:20221118T140000Z
X-MICROSOFT-CDO-ALLDAYEVENT:FALSE
SUMMARY:Joint Chambers Christmas Phuket Sundowners hosted by AustCham
DESCRIPTION:Please be advised that this function is a partner event with an external organizer. The registration link will send you away from the AMCHAM website to the website of the organizer.  Please be advised that the organizer may not have the same data protection\, event cancellation policies or Covid-19 safety protocol as AMCHAM Thailand.\n\n\n\nREGISTER NOW\n\n \nAMCHAM Thailand\, in collaboration with AustCham Thailand\,Australian Alumni\, British Chamber of Commerce Thailand (BCCT)\, Belgian-Luxembourg/Thai Chamber of Commerce\, CanCham Thailand\, Franco-Thai Chamber of Commerce (FTCC)\, German-Thai Chamber of Commerce (GTCC)\, Netherlands-Thai Chamber of Commerce (NTCC)\, Phuket Chamber of Commerce and Thai-Swedish Chamber of Commerce\, invite you to join us for Phuket Sundowners at SAii Laguna Phuket.\n\n\n\nSAii Laguna Phuket is an exceptional resort destination nestled on Bangtao Beach\, one of Thailand's most exquisite beaches. Its lush\, tropical gardens open to a tranquil lagoon\, just a few steps from the Andaman Sea. Here\, signature Thai hospitality\, sensory aesthetics and sublime dining experiences combine to provide postcard-perfect memories in the heart of Phuket's Laguna community\, with its bounty of natural\, cultural\, and culinary attractions\n\n\n\nJoin us for a wonderful night of making new connections and catching up with familiar faces in the Australian-Thai business community. As well as\, getting to know and learn from our corporate sponsors Silk Legal\, a boutique law firm based that specializes in commercial transaction\, foreign direct investment\, technology\, blockchain and artificial intelligence.\n\n\n\nAccommodation is being offered to participants at a special rate as below:\n\n\n	Promo Code: SURF\n	Bookings through our Reservation departments at e-mail: rsvn.laguna@saiiresorts.com or call +66 (0)76 360-600\n	Please use promo code: SURF\n\nRoom Type:\n\nLagoon View with breakfast                                 Baht 3\,500 net per room per night\n\nOcean View with breakfast                                  Baht 4\,000 net per room per night\n\nOcean View Terrace with breakfast                     Baht 4\,500 net per room per night\n\nClub Lagoon View with The Club privileges        Baht 4\,500 net per room per night\n\nClub Ocean View with The Club privileges         Baht 5\,500 net per room per night
X-ALT-DESC;FMTTYPE=text/html:Please be advised that this function is a partner event with an external organizer. The registration link will send you away from the AMCHAM website to the website of the organizer.&#8203\; Please be advised that the organizer may not have the same data protection\, event cancellation policies or Covid-19 safety protocol as AMCHAM Thailand.<br />\n<br />\n<span style="font-size:16px\;"><strong><a href="https://www.austchamthailand.com/event/18-nov-joint-chambers-phuket-sundowners-hosted-by-austcham-2/">REGISTER NOW</a></strong></span><br />\n&nbsp\;\n<p>AMCHAM Thailand\, in collaboration with AustCham Thailand\,Australian Alumni\, British Chamber of Commerce Thailand (BCCT)\, Belgian-Luxembourg/Thai Chamber of Commerce\, CanCham Thailand\, Franco-Thai Chamber of Commerce (FTCC)\, German-Thai Chamber of Commerce (GTCC)\, Netherlands-Thai Chamber of Commerce (NTCC)\, Phuket Chamber of Commerce and Thai-Swedish Chamber of Commerce\, invite you to join us for Phuket Sundowners at SAii Laguna Phuket.<br />\n<br />\nSAii Laguna Phuket is an exceptional resort destination nestled on Bangtao Beach\, one of Thailand&rsquo\;s most exquisite beaches. Its lush\, tropical gardens open to a tranquil lagoon\, just a few steps from the Andaman Sea. Here\, signature Thai hospitality\, sensory aesthetics and sublime dining experiences combine to provide postcard-perfect memories in the heart of Phuket&rsquo\;s Laguna community\, with its bounty of natural\, cultural\, and culinary attractions<br />\n<br />\nJoin us for a wonderful night of making new connections and catching up with familiar faces in the Australian-Thai business community. As well as\, getting to know and learn from our corporate sponsors Silk Legal\, a boutique law firm based that specializes in commercial transaction\, foreign direct investment\, technology\, blockchain and artificial intelligence.<br />\n<br />\nAccommodation is being offered to participants at a special rate as below:</p>\n\n<ul>\n	<li>Promo Code: SURF</li>\n	<li>Bookings through our Reservation departments at e-mail:&nbsp\;<a href="mailto:rsvn.laguna@saiiresorts.com" target="_blank">rsvn.laguna@saiiresorts.com</a>&nbsp\;or call +66 (0)76 360-600</li>\n	<li>Please use promo code:&nbsp\;SURF</li>\n</ul>\nRoom Type:<br />\nLagoon View with breakfast&nbsp\; &nbsp\; &nbsp\; &nbsp\; &nbsp\; &nbsp\; &nbsp\; &nbsp\; &nbsp\; &nbsp\; &nbsp\; &nbsp\; &nbsp\; &nbsp\; &nbsp\;&nbsp\;&nbsp\;&nbsp\;&nbsp\;Baht 3\,500 net per room per night<br />\nOcean View with breakfast&nbsp\; &nbsp\; &nbsp\; &nbsp\; &nbsp\; &nbsp\; &nbsp\; &nbsp\; &nbsp\; &nbsp\; &nbsp\; &nbsp\; &nbsp\; &nbsp\; &nbsp\; &nbsp\;&nbsp\;&nbsp\;&nbsp\;Baht 4\,000 net per room per night<br />\nOcean View Terrace with breakfast&nbsp\; &nbsp\; &nbsp\; &nbsp\; &nbsp\; &nbsp\; &nbsp\; &nbsp\; &nbsp\; &nbsp\;&nbsp\;&nbsp\;Baht 4\,500 net per room per night<br />\nClub Lagoon View with The Club privileges&nbsp\; &nbsp\; &nbsp\;&nbsp\;&nbsp\;&nbsp\;Baht 4\,500 net per room per night<br />\nClub Ocean View with The Club privileges&nbsp\; &nbsp\; &nbsp\; &nbsp\;&nbsp\;&nbsp\;Baht 5\,500 net per room per night<br />\n<br />\n&nbsp\;
LOCATION:SAii Laguna Phuket
UID:e.3314.2330
SEQUENCE:3
DTSTAMP:20260420T123618Z
URL:http://www.connect.amchamthailand.com/events/details/joint-chambers-christmas-phuket-sundowners-hosted-by-austcham-2330
END:VEVENT

END:VCALENDAR
