BEGIN:VCALENDAR
VERSION:2.0
PRODID:-//ChamberMaster//Event Calendar 2.0//EN
METHOD:PUBLISH
X-PUBLISHED-TTL:P3D
REFRESH-INTERVAL:P3D
CALSCALE:GREGORIAN
BEGIN:VEVENT
DTSTART:20230317T110000Z
DTEND:20230317T140000Z
X-MICROSOFT-CDO-ALLDAYEVENT:FALSE
SUMMARY:Joint Chambers ESB Sundowners hosted by AustCham
DESCRIPTION:Please note that this function is a partner event with an external organizer. The registration link will send you away from the AMCHAM website to the website of the organizer.  Please be advised that this event organizer may have different data collection/privacy and event cancellation policies than AMCHAM Thailand.\n\n\n\nREGISTER NOW\n\nAMCHAM Thailand\, in collaboration with the Australian-Thai Chamber of Commerce (AustCham)\, British Chamber of Commerce Thailand (BCCT)\, Belgian-Luxembourg/Thai Chamber of Commerce (BeluThai)\, Cancham Thailand\, German-Thai Chamber of Commerce (GTCC)\, Netherlands - Thai Chamber of Commerce (NTCC)\, New Zealand - Thai Chamber of Commerce (NZTCC)\, South African Chamber (SATCC)\, and Singapore-Thai Chamber of Commerce (STCC)\, welcomes members and guests to join our Eastern Seaboard Sundowners held on Friday 17th March 2023.\n\n\n\nAll those living on the Eastern Seaboard or who travel there for business are welcome to attend this event which is a great opportunity to network with others who live and work within the region. Members and guests will also be able to enjoy a delicious choice of local and international dishes and friendly atmosphere at Avani Pattaya Resort\, an escape from the big city\, close to it all. A tropical oasis of sun\, sea\, and sand\, with a fun-filled seaside playground.\n\n\n\nAvani Pattaya Resort is one of Thailand's popular beach resort destinations. The 300-room resort offers great views and a relaxed vibe for both business travellers and holidaymakers. Located in the heart of Pattaya and a 90-minute drive out of Bangkok. The resort is only minutes away from the city's hotspots and is connected to Royal Garden Plaza shopping mall. This vibrant coastal city is a must visit destination in Thailand as there is something for everyone. https://www.avanihotels.com/en/pattaya
X-ALT-DESC;FMTTYPE=text/html:<p>Please note that this function is a partner event with an external organizer. The registration link will send you away from the AMCHAM website to the website of the organizer.&#8203\; Please be advised that this event organizer may have different data collection/privacy and event cancellation policies than AMCHAM Thailand.<br />\n<br />\n<a href="https://www.austchamthailand.com/event/17-mar-joint-chambers-esb-sundowners-hosted-by-austcham/"><span style="font-size: 16px\;"><span style="font-family: arial\;"><strong><span style="color: rgb(0\, 0\, 128)\;">REGISTER NOW</span></strong></span></span></a></p>\n\n<p>AMCHAM Thailand\, in collaboration with&nbsp\;the Australian-Thai Chamber of Commerce (AustCham)\, British Chamber of Commerce Thailand (BCCT)\, Belgian-Luxembourg/Thai Chamber of Commerce (BeluThai)\, Cancham Thailand\, German-Thai Chamber of Commerce (GTCC)\, Netherlands - Thai Chamber of Commerce (NTCC)\, New Zealand - Thai Chamber of Commerce (NZTCC)\, South African Chamber (SATCC)\, and Singapore-Thai Chamber of Commerce (STCC)\, welcomes members and guests to join our Eastern Seaboard Sundowners held on Friday 17th March 2023.<br />\n<br />\nAll those living on the Eastern Seaboard or who travel there for business are welcome to attend this event which is a great opportunity to network with others who live and work within the region. Members and guests will also be able to enjoy a delicious choice of local and international dishes and friendly atmosphere at Avani Pattaya Resort\, an escape from the big city\, close to it all. A tropical oasis of sun\, sea\, and sand\, with a fun-filled seaside playground.<br />\n<br />\nAvani Pattaya Resort is one of Thailand&#39\;s popular beach resort destinations. The 300-room resort offers great views and a relaxed vibe for both business travellers and holidaymakers. Located in the heart of Pattaya and a 90-minute drive out of Bangkok. The resort is only minutes away from the city&#39\;s hotspots and is connected to Royal Garden Plaza shopping mall. This vibrant coastal city is a must visit destination in Thailand as there is something for everyone.&nbsp\;<a href="https://www.avanihotels.com/en/pattaya" target="_blank">https://www.avanihotels.com/en/pattaya</a></p>\n
LOCATION:Avani Pattaya Resort
UID:e.3314.2518
SEQUENCE:3
DTSTAMP:20260420T051749Z
URL:http://www.connect.amchamthailand.com/events/details/joint-chambers-esb-sundowners-hosted-by-austcham-03-17-2023-2518
END:VEVENT

END:VCALENDAR
