BEGIN:VCALENDAR
VERSION:2.0
PRODID:-//ChamberMaster//Event Calendar 2.0//EN
METHOD:PUBLISH
X-PUBLISHED-TTL:P3D
REFRESH-INTERVAL:P3D
CALSCALE:GREGORIAN
BEGIN:VEVENT
DTSTART:20220715T110000Z
DTEND:20220715T140000Z
X-MICROSOFT-CDO-ALLDAYEVENT:FALSE
SUMMARY:Joint Chambers ESB Sundowners hosted by AustCham
DESCRIPTION:Please note that this event is hosted by AustCham and event requirements may differ from AMCHAM. Clicking the link will bring you to their registration page and away from the AMCHAM website.\n\nREGISTER NOW\n\n\n\nThe Australian-Thai Chamber of Commerce (AustCham)\, in collaboration with partner chambers\, welcomes members and guests to AustCham's Eastern Seaboard Sundowners held on Friday 15th July 2022. All those living on the Eastern Seaboard or who travel there for business are welcome to attend this event which is a great opportunity to network with others who live and work within the region.
X-ALT-DESC;FMTTYPE=text/html:<p>Please note that this event is hosted by AustCham&nbsp\;and event requirements may&nbsp\;differ from AMCHAM. Clicking the link will bring you to their registration page and away from the AMCHAM website.</p>\n\n<p><a href="https://www.austchamthailand.com/event/15-jul-joint-chambers-esb-sundowners-hosted-by-austcham/"><span style="font-size:12px\;"><span style="font-family:arial\;"><strong><span style="color:#000080\;"><span style="font-size:14px\;">REGISTER NOW</span></span></strong></span></span></a><br />\n<br />\nThe Australian-Thai Chamber of Commerce (AustCham)\, in collaboration with partner chambers\, welcomes members and guests to&nbsp\;AustCham&#39\;s Eastern Seaboard Sundowners&nbsp\;held on Friday 15th July 2022.&nbsp\;All those living on the Eastern Seaboard or who travel there for business are welcome to attend this event which is a great opportunity to network with others who live and work within the region.</p>\n
LOCATION:Pullman Pattaya Hotel G
UID:e.3314.2237
SEQUENCE:3
DTSTAMP:20260420T200541Z
URL:http://www.connect.amchamthailand.com/events/details/joint-chambers-esb-sundowners-hosted-by-austcham-07-15-2022-2237
END:VEVENT

END:VCALENDAR
