BEGIN:VCALENDAR
VERSION:2.0
PRODID:-//ChamberMaster//Event Calendar 2.0//EN
METHOD:PUBLISH
X-PUBLISHED-TTL:P3D
REFRESH-INTERVAL:P3D
CALSCALE:GREGORIAN
BEGIN:VEVENT
DTSTART:20230721T110000Z
DTEND:20230721T140000Z
X-MICROSOFT-CDO-ALLDAYEVENT:FALSE
SUMMARY:Joint Chambers ESB Sundowners hosted by AustCham
DESCRIPTION:Please be advised that this function is a partner event with an external organizer. The registration link will send you away from the AMCHAM website to the website of the organizer.  Please be advised that this event organizer may have different data collection/privacy and event cancellation policies than AMCHAM Thailand.\n\nREGISTER NOW\n\nThe Australian-Thai Chamber of Commerce (AustCham)\, in collaboration with American Chamber of Commerce in Thailand (AMCHAM)\, British Chamber of Commerce Thailand (BCCT)\, Belgian-Luxembourg/Thai Chamber of Commerce (BeluThai)\, Cancham Thailand\, German-Thai Chamber of Commerce (GTCC)\, Netherlands - Thai Chamber of Commerce (NTCC)\, New Zealand - Thai Chamber of Commerce (NZTCC)\, South African Chamber (SATCC)\, and Singapore-Thai Chamber of Commerce (STCC)\, welcomes members and guests to join our Eastern Seaboard Sundowners held on Friday 21st July 2023. \n\nMembers and guests will be able to enjoy a delicious choice of local and international dishes and friendly atmosphere at Pullman Pattaya Hotel G\, a culmination of traditional Thai and cutting-edge designs suited for every lifestyle. Nestled away in a lush landscape with serene tropical gardens and private Beach Club with direct access to the beach.\n\nJoin us for a wonderful night of making new connections and catching up with familiar faces as well as getting to know and learn from our corporate sponsors\, WHA Group\; Thailand's leading developer of Industrial Estates\, Utilities\, Power\, and Property Solutions\, and TMX Global\; an end-to-end supply chain consultant.\n\nAll those living on the Eastern Seaboard or who travel there for business are welcome to attend this event which is a great opportunity to network with others who live and work within the region. \n\nWe look forward to seeing you there!
X-ALT-DESC;FMTTYPE=text/html:<p>Please be advised that this function is a partner event with an external organizer. The registration link will send you away from the AMCHAM website to the website of the organizer.&#8203\; Please be advised that this event organizer may have different data collection/privacy and event cancellation policies than AMCHAM Thailand.</p>\n\n<p><a href="https://www.austchamthailand.com/event/21-jul-joint-chambers-esb-sundowners-hosted-by-austcham/"><span style="font-size:16px\;"><span style="font-family:arial\;"><strong><span style="color:#000080\;">REGISTER NOW</span></strong></span></span></a></p>\n\n<p>The Australian-Thai Chamber of Commerce (AustCham)\, in collaboration with American Chamber of Commerce in Thailand (AMCHAM)\, British Chamber of Commerce Thailand (BCCT)\, Belgian-Luxembourg/Thai Chamber of Commerce (BeluThai)\, Cancham Thailand\, German-Thai Chamber of Commerce (GTCC)\, Netherlands - Thai Chamber of Commerce (NTCC)\, New Zealand - Thai Chamber of Commerce (NZTCC)\, South African Chamber (SATCC)\, and Singapore-Thai Chamber of Commerce (STCC)\, welcomes members and guests to&nbsp\;join our Eastern Seaboard Sundowners&nbsp\;held on&nbsp\;Friday 21st July 2023.&nbsp\;</p>\n\n<p>Members and guests will be able to enjoy a delicious choice of local and international dishes and friendly atmosphere at&nbsp\;Pullman Pattaya Hotel G\, a culmination of traditional Thai and cutting-edge designs suited for every lifestyle. Nestled away in a lush landscape with serene tropical gardens and private Beach Club with direct access to the beach.</p>\n\n<p>Join us for a wonderful night of making new connections and catching up with familiar faces as well as&nbsp\;getting to know and learn from our corporate sponsors\,&nbsp\;WHA Group\; Thailand&rsquo\;s leading developer of Industrial Estates\, Utilities\, Power\, and Property Solutions\, and&nbsp\;TMX Global\;&nbsp\;an end-to-end supply chain consultant.</p>\n\n<p>All those living on the Eastern Seaboard or who travel there for business are welcome to attend this event which is a great opportunity to network with others who live and work within the region.&nbsp\;</p>\n\n<p>We look forward to seeing you there!</p>\n
LOCATION:Pullman Pattaya Hotel G
UID:e.3314.2568
SEQUENCE:3
DTSTAMP:20260419T221824Z
URL:http://www.connect.amchamthailand.com/events/details/joint-chambers-esb-sundowners-hosted-by-austcham-07-21-2023-2568
END:VEVENT

END:VCALENDAR
