BEGIN:VCALENDAR
VERSION:2.0
PRODID:-//ChamberMaster//Event Calendar 2.0//EN
METHOD:PUBLISH
X-PUBLISHED-TTL:P3D
REFRESH-INTERVAL:P3D
CALSCALE:GREGORIAN
BEGIN:VEVENT
DTSTART:20200717T110000Z
DTEND:20200717T140000Z
X-MICROSOFT-CDO-ALLDAYEVENT:FALSE
SUMMARY:Joint Chambers ESB Sundowners hosted by AustCham
DESCRIPTION:REGISTER HERE\n\nThe Australian-Thai Chamber of Commerce (AustCham)\, in collaboration with partner chambers\, welcomes members and guests to AustCham's Eastern Seaboard Sundowners held on Friday 17th July 2020. \n\n \n\nAll those living on the Eastern Seaboard or who travel there for business are welcome to attend this event which is a great opportunity to network with others who live and work within the region.\n\n\n\nOur event sponsors from WHA Corporation PCL.\, Thailand's leading developer of Industrial Estates\, Utilities\, Power\, and Property Solutions\, will be attending the event and will be available to answer questions about their services.\n\n\n\nMembers and guests will also be able to enjoy a delicious choice of local and international dishes and friendly atmosphere at Amari Pattaya\, a beachfront resort\, positioned along the coastline on the idyllic north end of Pattaya Bay.\n\n\n\nWe look forward to seeing you there!\n\n\n\nAccommodation: Amari Pattaya offers special rates\, Deluxe Room at THB 2\,900 Net per night inclusive of breakfast. Please input promo code: AUSTCHAM  when booking via www.amari.com. *This promotion is valid only on Friday 17th July\, 2020.\n\n\n\n*Please register in advance\, as walk-ins are not allowed for this event\n\nLimited spaces\, please book early to avoid disappointment
X-ALT-DESC;FMTTYPE=text/html:<strong><a href="https://www.austchamthailand.com/event/17-jul-joint-chambers-esb-sundowners-hosted-by-austcham/"><u>REGISTER HERE</u></a></strong><br />\nThe Australian-Thai Chamber of Commerce (AustCham)\, in collaboration with partner chambers\, welcomes members and guests to AustCham&#39\;s Eastern Seaboard Sundowners held on Friday 17th July 2020.&nbsp\;<br />\n&#8203\;<br />\nAll those living on the Eastern Seaboard or who travel there for business are welcome to attend this event which is a great opportunity to network with others who live and work within the region.<br />\n<br />\nOur event sponsors from WHA Corporation PCL.\, Thailand&rsquo\;s leading developer of Industrial Estates\, Utilities\, Power\, and Property Solutions\, will be attending the event and will be available to answer questions about their services.<br />\n<br />\nMembers and guests will also be able to enjoy a delicious choice of local and international dishes and friendly atmosphere at Amari Pattaya\, a beachfront resort\, positioned along the coastline on the idyllic north end of Pattaya Bay.<br />\n<br />\nWe look forward to seeing you there!<br />\n<br />\n<strong>Accommodation:</strong> Amari Pattaya offers special rates\, Deluxe Room at THB 2\,900 Net per night inclusive of breakfast. Please input promo code: AUSTCHAM&nbsp\; when booking via www.amari.com. *This promotion is valid only on Friday 17th July\, 2020.<br />\n<br />\n<span style="color:#FF0000\;">*Please register in advance\, as walk-ins are not allowed for this event<br />\nLimited spaces\, please book early to avoid disappointment</span>
LOCATION:Beach Quarter Events Space\, Amari Pattaya View Map
UID:e.3314.1645
SEQUENCE:3
DTSTAMP:20260422T163010Z
URL:http://www.connect.amchamthailand.com/events/details/joint-chambers-esb-sundowners-hosted-by-austcham-1645
END:VEVENT

END:VCALENDAR
