BEGIN:VCALENDAR
VERSION:2.0
PRODID:-//ChamberMaster//Event Calendar 2.0//EN
METHOD:PUBLISH
X-PUBLISHED-TTL:P3D
REFRESH-INTERVAL:P3D
CALSCALE:GREGORIAN
BEGIN:VEVENT
DTSTART:20221209T100000Z
DTEND:20221209T130000Z
X-MICROSOFT-CDO-ALLDAYEVENT:FALSE
SUMMARY:Joint Chambers Khon Kaen Sundowners
DESCRIPTION:Please be advised that this function is a partner event with an external organizer. The registration link will send you away from the AMCHAM website to the website of the organizer.  Please be advised that the organizer may not have the same data protection\, event cancellation policies or Covid-19 safety protocol as AMCHAM Thailand.\n\n\n\nREGISTER NOW\n\n\n\nAMCHAM Thailand\, in collaboration with AustCham Thailand\, Australian Alumni and partner chambers\, is delighted to invite you to join us for "Joint Chambers Khon Kaen Sundowners" at the one and only Ad Lib Hotel (Khon Kaen) \n\n\n\nIn addition\, members of AustCham and partner chambers are invited to join the "Esan BCG Forum" exclusive invitation only session at Kaen Kaew Live House (inside Ad Lib Hotel) on the same afternoon between 14:00-16:30hrs (separate RSVP required\, limited seats available).\n\n\n\nKhon Kaen is the education\, economic\, and diplomatic heart of Isan - Thailand's largest region with over on third of the country's population and strong relations to its neighbours in the Greater Mekong Sub-region. The province is trending now due to being at the center of Thailand's North Eastern Economic Corridor (NEEC) infrastructure investments as well as being integral to the National BCG (Bio-Circular-Green Economy) Strategy. By hosting the Sundowner during the events of the Isan BCG Expo\, members can also take the opportunity to explore the forums\, exhibitions\, events\, and markets happening at three different stages and on the streets surrounding the Khon Kaen Innovation Center.\n\n\n\nAccommodation: click here \n\nLimited rooms available\, please contact chanakarn@austchamthailand.com
X-ALT-DESC;FMTTYPE=text/html:Please be advised that this function is a partner event with an external organizer. The registration link will send you away from the AMCHAM website to the website of the organizer.&#8203\; Please be advised that the organizer may not have the same data protection\, event cancellation policies or Covid-19 safety protocol as AMCHAM Thailand.<br />\n<br />\n<strong><span style="font-size:16px\;"><a href="https://www.austchamthailand.com/event/9-dec-joint-chambers-khon-kaen-sundowners-hosted-by-austcham/">REGISTER NOW</a></span></strong><br />\n<br />\nAMCHAM Thailand\, in collaboration with AustCham Thailand\, Australian Alumni and partner chambers\, is delighted to invite you to join us for &ldquo\;Joint Chambers Khon Kaen Sundowners&rdquo\;&nbsp\;at the one and only Ad Lib Hotel (Khon Kaen)&nbsp\;<br />\n<br />\nIn addition\, members of AustCham and partner chambers are invited to join the &quot\;Esan BCG Forum&rdquo\; exclusive invitation only session at Kaen Kaew Live House (inside Ad Lib Hotel) on the same afternoon between 14:00-16:30hrs (separate RSVP required\, limited seats available).<br />\n<br />\nKhon Kaen is the education\, economic\, and diplomatic heart of Isan - Thailand&rsquo\;s largest region with over on third of the country&rsquo\;s population and strong relations to its neighbours in the Greater Mekong Sub-region. The province is trending now due to being at the center of Thailand&rsquo\;s North Eastern Economic Corridor (NEEC) infrastructure investments as well as being integral to the National BCG (Bio-Circular-Green Economy) Strategy. By hosting the Sundowner during the events of the Isan BCG Expo\, members can also take the opportunity to explore the forums\, exhibitions\, events\, and markets happening at three different stages and on the streets surrounding the Khon Kaen Innovation Center.<br />\n<br />\nAccommodation: <a href="https://mcusercontent.com/6f16b904b2d89903507f3ad01/files/542b5965-dc47-6528-8c99-7dd48ba6ef68/Accommodation_Promotion.pdf" target="_blank">click here&nbsp\;</a><br />\nLimited rooms available\, please contact <a href="mailto:chanakarn@austchamthailand.com" target="_blank">chanakarn@austchamthailand.com</a>
LOCATION:Ad Lib Khon Kaen Hotel
UID:e.3314.2328
SEQUENCE:3
DTSTAMP:20260420T104952Z
URL:http://www.connect.amchamthailand.com/events/details/joint-chambers-khon-kaen-sundowners-2328
END:VEVENT

END:VCALENDAR
