BEGIN:VCALENDAR
VERSION:2.0
PRODID:-//ChamberMaster//Event Calendar 2.0//EN
METHOD:PUBLISH
X-PUBLISHED-TTL:P3D
REFRESH-INTERVAL:P3D
CALSCALE:GREGORIAN
BEGIN:VEVENT
DTSTART:20190226T110000Z
DTEND:20190226T130000Z
X-MICROSOFT-CDO-ALLDAYEVENT:FALSE
SUMMARY:Multi-Chambers Legal Committee: Data Protection Laws - Existing and Prospective
DESCRIPTION:AMCHAM\, in collaboration with the BCCT\, AustCham and GTCC\, invites you to join our briefing on Data Protection Laws. \n\n\n\nIn May of last year\, the new EU data protection laws came into force\, with sweeping implications for businesses worldwide. Now Thailand stands on the brink of enacting data protection laws of its own. On the evening of 26 February at the British Business Centre\, two distinguished speakers will address these developments.\n\n	Philipp Dupuis\, Head of the Economic and Trade Section of the Delegation of the European Union in Thailand will speak on how the EU's new laws affect business in Thailand.\n\n\n\n	Athistha Chitranukroh\, Partner at Tilleke & Gibbins\, deputy director of their corporate and commercial group\, and joint head of their technology industry group\, will speak on Thailand's draft Data Protection law.  \n\n\n\nAgenda \n\n     6 pm - Registration & Networking \n\n6.30 pm - Speaker Presentations\n\n7.30 pm - Q&A \n\n     8 pm - Close
X-ALT-DESC;FMTTYPE=text/html:<br />\n<span style="font-size:14px\;"><span style="font-family:arial\;">AMCHAM\, in collaboration with the BCCT\, AustCham and GTCC\, invites you to join our briefing on Data Protection Laws.&nbsp\;<br />\n<br />\nIn May of last year\, the new EU data protection laws came into force\, with sweeping implications for businesses worldwide. Now Thailand stands on the brink of enacting data protection laws of its own. On the evening of 26 February at the British Business Centre\, two distinguished speakers will address these developments.</span></span>\n<ul>\n	<li><span style="font-size:14px\;"><span style="font-family:arial\;"><strong><a href="http://members.bccthai.com/asp/view_doc.asp?DocCID=3460">Philipp Dupuis</a></strong>\, Head of the Economic and Trade Section of the Delegation of the European Union in Thailand will speak on how the EU&rsquo\;s new laws affect business in Thailand.</span></span></li>\n</ul>\n\n<ul>\n	<li><span style="font-size:14px\;"><span style="font-family:arial\;"><strong><a href="https://www.tilleke.com/professionals/athistha">Athistha Chitranukroh</a></strong>\, Partner&nbsp\;at Tilleke&nbsp\;&amp\; Gibbins\, deputy director of their&nbsp\;corporate and commercial group\, and joint head of their technology industry group\,&nbsp\;will speak on Thailand&rsquo\;s draft Data Protection law.&nbsp\;&nbsp\;</span></span></li>\n</ul>\n<br />\n<span style="font-size:14px\;"><span style="font-family:arial\;"><strong>Agenda&nbsp\;</strong></span></span><br />\n&nbsp\;&nbsp\;&nbsp\;&nbsp\;&nbsp\;<span style="font-size:14px\;"><span style="font-family:arial\;">6 pm - Registration &amp\; Networking&nbsp\;<br />\n6.30 pm - Speaker Presentations<br />\n7.30 pm - Q&amp\;A&nbsp\;<br />\n&nbsp\; &nbsp\; &nbsp\;8 pm - Close&nbsp\;</span></span>
LOCATION:British Business Centre\, BCCT Office\, 7th Floor\, 208 Wireless Road (nearest BTS station: BTS Ploenchit exit 5)
UID:e.3314.196
SEQUENCE:3
DTSTAMP:20260423T221600Z
URL:http://www.connect.amchamthailand.com/events/details/joint-chambers-legal-committee-data-protection-laws-existing-and-prospective-196
END:VEVENT

END:VCALENDAR
