BEGIN:VCALENDAR
VERSION:2.0
PRODID:-//ChamberMaster//Event Calendar 2.0//EN
METHOD:PUBLISH
X-PUBLISHED-TTL:P3D
REFRESH-INTERVAL:P3D
CALSCALE:GREGORIAN
BEGIN:VEVENT
DTSTART:20220706T103000Z
DTEND:20220706T130000Z
X-MICROSOFT-CDO-ALLDAYEVENT:FALSE
SUMMARY:Joint Chambers Tech & The City x Chiang Mai Connect: Agrofood x Deeptech - What's Next? Talk & Meet-up
DESCRIPTION:Please note that this event is hosted by NTCC and event requirements may differ from AMCHAM. Clicking the link will bring you to their registration page and away from the AMCHAM website.\n\nREGISTER NOW\n\nChiang Mai is one of the prime agricultural and food hubs of Thailand. Year after year\, foodtech startups have come and go. And it's now time to ask\, how will DeepTech play a role in the agrofood scene? \n\n- Post-legalization\, what's the next step for the (medical) cannabis industry? Looking towards sustainability and food security\, can Chiang Mai become a green city through an urban farming network? The plant-based meat scene is also an area in focus for this part of Thailand\, taking on the regional market. And what is happening with MAID - the Maejo Agricultural Innovation District upon its launch? \n\nJoin us at tenth edition of Tech & The City by Global Startup Hub CNX\, supported by NIA & Startup Thailand\, powered by CM Town & Chiang Mai Connect by NTCC and find out! \n\n\n	Meet fellow startup founders and entrepreneurs from the tech ecosystem\n	Update yourself on the agrofood tech scene in Chiang Mai\n	Connect with entrepreneurs & professionals from the tech eco-system and beyond - wide-ranging industries in the North - linking business groups from the international and local chambers of commerce\, to the Federation of Thai Industries
X-ALT-DESC;FMTTYPE=text/html:<p>Please note that this event is hosted by NTCC and event requirements may&nbsp\;differ from AMCHAM. Clicking the link will bring you to their registration page and away from the AMCHAM website.</p>\n\n<p><a href="https://us6.campaign-archive.com/?e=[UNIQID]&amp\;u=ce3a95290e262ed8a7a6a2f7d&amp\;id=c061a1c59b&amp\;fbclid=IwAR0YgRPquCp7JCFI1BPqAUOPqm6gUCw5uFB7MpA3xlXT67erEX9yidyf4tU"><span style="font-size:12px\;"><span style="font-family:arial\;"><strong><span style="color:#000080\;">REGISTER NOW</span></strong></span></span></a></p>\n\n<p>Chiang Mai is one of the prime agricultural and food hubs of Thailand. Year after year\, foodtech startups have come and go. And it&#39\;s now time to ask\,&nbsp\;how will DeepTech play a role in the agrofood scene?&nbsp\;</p>\n\n<p>- Post-legalization\, what&#39\;s the next step for the (medical) cannabis industry? Looking towards sustainability and food security\, can Chiang Mai become a green city&nbsp\;through an urban farming network? The plant-based meat scene is also an area in focus for this part of Thailand\, taking on the regional market. And what is happening with MAID - the Maejo Agricultural Innovation District upon its launch?&nbsp\;</p>\n\n<p>Join us at tenth&nbsp\;edition of&nbsp\;Tech &amp\; The City by&nbsp\;<a href="https://ichiangmai.us1.list-manage.com/track/click?u=a1243f0d6b64c70b327e0fa90&amp\;id=39767477d6&amp\;e=61d11a6096" target="_blank">Global Startup Hub CNX</a>\, supported by&nbsp\;<a href="https://ichiangmai.us1.list-manage.com/track/click?u=a1243f0d6b64c70b327e0fa90&amp\;id=79a5aa7f43&amp\;e=61d11a6096" target="_blank">NIA</a>&nbsp\;&amp\;&nbsp\;<a href="https://ichiangmai.us1.list-manage.com/track/click?u=a1243f0d6b64c70b327e0fa90&amp\;id=2251adefb1&amp\;e=61d11a6096" target="_blank">Startup Thailand</a>\, powered by&nbsp\;<a href="https://www.facebook.com/cmtownofficial" target="_blank">CM Town</a>&nbsp\;&amp\;&nbsp\;<a href="http://www.facebook.com/chiangmaiconnect" target="_blank">Chiang Mai Connect by NTCC</a>&nbsp\;and find out!&nbsp\;</p>\n\n<ul>\n	<li>Meet fellow startup founders and entrepreneurs from the tech ecosystem</li>\n	<li>Update yourself on the agrofood tech scene in Chiang Mai</li>\n	<li>Connect with entrepreneurs &amp\; professionals from the tech eco-system and beyond - wide-ranging industries in the North - linking business groups from the international and local chambers of commerce\, to the Federation of Thai Industries</li>\n</ul>\n
LOCATION:One Sala\, One Nimman (map)
UID:e.3314.2242
SEQUENCE:3
DTSTAMP:20260420T215511Z
URL:http://www.connect.amchamthailand.com/events/details/joint-chambers-tech-the-city-x-chiang-mai-connect-agrofood-x-deeptech-what-s-next-talk-meet-up-2242
END:VEVENT

END:VCALENDAR
