BEGIN:VCALENDAR
VERSION:2.0
PRODID:-//ChamberMaster//Event Calendar 2.0//EN
METHOD:PUBLISH
X-PUBLISHED-TTL:P3D
REFRESH-INTERVAL:P3D
CALSCALE:GREGORIAN
BEGIN:VEVENT
DTSTART:20220427T103000Z
DTEND:20220427T130000Z
X-MICROSOFT-CDO-ALLDAYEVENT:FALSE
SUMMARY:Joint Chambers Tech & The City x Chiang Mai Connect: Deeptech startups in Chiang Mai - a dream come true? Talk & Networking
DESCRIPTION:REGISTER NOW\n\nThe word is out for many years in the making\, of grand plans for the Chiang Mai tech ecosystem\; a hub for startups\, digital nomads\, local entrepreneurs\, and international companies kick-starting for the global market. It may be time to think bigger\, how do startups step up the game and move towards 'deep-tech' - AI\, robotics\, IoT\, AR/VR\, Biotech\, Spacetech. Many may think\, when and how is all this becoming a reality? \n\n\n\nThere is a lot more happening behind-the-scenes than what meets the eye. Chiang Mai has its own established players who now have the ability to go above and beyond.\n\n\n\nJoin us at the eighth edition of Tech & The City by Global Startup Hub CNX\, supported by NIA & Startup Thailand\, powered by CM Town & Chiang Mai Connect by NTCC.\n\n\n	Meet fellow startup founders and entrepreneurs from the tech ecosystem\n	Learn more how deep-tech startups are being born in Chiang Mai after years of incubation\n	Hear what universities and VCs are doing to support the deeptech ecosystem\n	Find out what nomads and international players are cooking in the market on IoT\n	Connect with entrepreneurs & professionals from the tech eco-system and beyond - wide-ranging industries in the North - linking business groups from the international and local chambers of commerce\, to the Federation of Thai Industries\n\n\nCome connect on Wednesday 27th April\, 17.30 hrs onwards at Weave Artisan Society (map).\n\nYou are also free to join the talk online. Register here. \n\n(Online talk from 6PM - 7PM)\n\n\n\nPlease note that this event is hosted by a different chamber and their cancellation policy will differ from AMCHAM's flexible cancellation policy.
X-ALT-DESC;FMTTYPE=text/html:<p><a href="https://app.glueup.com/event/54807/register"><span style="font-size:12px\;"><span style="font-family:arial\;"><strong><span style="color:#000080\;">REGISTER NOW</span></strong></span></span></a></p>\n\n<p>The word is out for many years in the making\, of grand plans for the Chiang Mai tech ecosystem\; a hub for startups\, digital nomads\, local entrepreneurs\, and international companies kick-starting for the global market. It may be time to think bigger\, how do startups step up the game and move towards &#39\;deep-tech&#39\; - AI\, robotics\, IoT\, AR/VR\, Biotech\, Spacetech. Many may think\, when and how is all this becoming a reality?&nbsp\;<br />\n<br />\nThere is a lot more happening behind-the-scenes than what meets the eye. Chiang Mai has its own established players who now have the ability to go above and beyond.<br />\n<br />\nJoin us at the eighth edition of&nbsp\;Tech &amp\; The City by&nbsp\;<a href="https://ichiangmai.us1.list-manage.com/track/click?u=a1243f0d6b64c70b327e0fa90&amp\;id=39767477d6&amp\;e=61d11a6096">Global Startup Hub CNX</a>\, supported by&nbsp\;<a href="https://ichiangmai.us1.list-manage.com/track/click?u=a1243f0d6b64c70b327e0fa90&amp\;id=79a5aa7f43&amp\;e=61d11a6096">NIA</a>&nbsp\;&amp\;&nbsp\;<a href="https://ichiangmai.us1.list-manage.com/track/click?u=a1243f0d6b64c70b327e0fa90&amp\;id=2251adefb1&amp\;e=61d11a6096">Startup Thailand</a>\, powered by&nbsp\;<a href="https://www.facebook.com/cmtownofficial" target="_blank">CM Town</a>&nbsp\;&amp\;&nbsp\;<a href="http://www.facebook.com/chiangmaiconnect" target="_blank">Chiang Mai Connect by NTCC</a><a href="http://www.facebook.com/chiangmaiconnect">.</a></p>\n\n<ul>\n	<li>Meet fellow startup founders and entrepreneurs from the tech ecosystem</li>\n	<li>Learn more how deep-tech startups are being born in Chiang Mai after years of incubation</li>\n	<li>Hear what universities and VCs are doing to support the deeptech ecosystem</li>\n	<li>Find out what nomads and international players are cooking in the market on IoT</li>\n	<li>Connect with entrepreneurs &amp\; professionals from the tech eco-system and beyond - wide-ranging industries in the North - linking business groups from the international and local chambers of commerce\, to the Federation of Thai Industries</li>\n</ul>\n\n<p>Come connect on&nbsp\;Wednesday 27th April\,&nbsp\;17.30&nbsp\;hrs onwards&nbsp\;at Weave Artisan Society (<a href="https://goo.gl/maps/toKJPtvZ2UNPh1zA9" target="_blank">map</a>).<br />\nYou are&nbsp\;also free to join the talk online. Register&nbsp\;<a href="https://app.glueup.com/event/54807/register/" target="_blank">here</a><a href="https://app.glueup.com/event/41965/register/">.</a>&nbsp\;<br />\n(Online talk from 6PM - 7PM)<br />\n<br />\n<em>Please note that this event is hosted by a different chamber and their cancellation policy will differ from&nbsp\;AMCHAM&#39\;s flexible&nbsp\;cancellation policy.&nbsp\;</em></p>\n
LOCATION:Weave Artisan Society (map)
UID:e.3314.2210
SEQUENCE:3
DTSTAMP:20260421T032404Z
URL:http://www.connect.amchamthailand.com/events/details/joint-chambers-tech-the-city-x-chiang-mai-connect-deeptech-startups-in-chiang-mai-a-dream-come-true-talk-networking-2210
END:VEVENT

END:VCALENDAR
