BEGIN:VCALENDAR
VERSION:2.0
PRODID:-//ChamberMaster//Event Calendar 2.0//EN
METHOD:PUBLISH
X-PUBLISHED-TTL:P3D
REFRESH-INTERVAL:P3D
CALSCALE:GREGORIAN
BEGIN:VEVENT
DTSTART:20220530T060000Z
DTEND:20220530T070000Z
X-MICROSOFT-CDO-ALLDAYEVENT:FALSE
SUMMARY:Joint Healthcare Council and Food & Agri-Business Committee Meeting
DESCRIPTION:AMCHAM's Healthcare Council and Food and Agri-business Committee would like to invite all interested members to join our joint planning meeting.  \n\n\n\nIncreased digitization of FDA approvals is listed in the Ten for Thailand\, a priority advocacy agenda shared by the Foreign Chambers Alliance (FCA). \n\n\n\nTo consolidate our position related to the FDA approval processes\, the Healthcare Council and Food and Agri-business Committee have been collaborating to define the current process and opportunities for improvement covering products ranging from medical and pharmaceutical products\, to cosmetics\, to human food and animal feed. With this\, we would like to invite members who are interested in working with us on this issue to join the preparation meeting and provide comments and feedback for developing our proposal.
X-ALT-DESC;FMTTYPE=text/html:<div>\n<p paraeid="{9f27f7a5-2191-4c49-b1ba-08a19e2a7afd}{179}" paraid="1621594846">AMCHAM&#39\;s Healthcare Council and Food and Agri-business Committee would like to invite all interested members to join our joint planning meeting.&nbsp\;&nbsp\;</p>\n</div>\n\n<div>\n<p paraeid="{9f27f7a5-2191-4c49-b1ba-08a19e2a7afd}{189}" paraid="1619473609">Increased digitization of FDA approvals is listed in the Ten for Thailand\, a priority advocacy agenda shared by the Foreign Chambers Alliance (FCA).&nbsp\;</p>\n</div>\n\n<div>\n<p paraeid="{9f27f7a5-2191-4c49-b1ba-08a19e2a7afd}{203}" paraid="2109023143">To consolidate our position related to the FDA approval processes\, the Healthcare Council and Food and Agri-business Committee have been collaborating to define the current process and opportunities for improvement covering products ranging from medical and pharmaceutical products\, to cosmetics\, to human food and animal feed. With this\, we would like to invite members who are interested in working with us on this issue to join the preparation meeting and provide comments and feedback for developing our proposal.&nbsp\;&nbsp\;</p>\n</div>\n
LOCATION:Video conference
UID:e.3314.2221
SEQUENCE:3
DTSTAMP:20260421T013141Z
URL:http://www.connect.amchamthailand.com/events/details/joint-healthcare-council-and-food-agri-business-committee-meeting-2221
END:VEVENT

END:VCALENDAR
