BEGIN:VCALENDAR
VERSION:2.0
PRODID:-//ChamberMaster//Event Calendar 2.0//EN
METHOD:PUBLISH
X-PUBLISHED-TTL:P3D
REFRESH-INTERVAL:P3D
CALSCALE:GREGORIAN
BEGIN:VEVENT
DTSTART:20200114T003000Z
DTEND:20200114T030000Z
X-MICROSOFT-CDO-ALLDAYEVENT:FALSE
SUMMARY:Joint HR and Legal Committee: Labor Law Updates: Employee Termination and Reducing Your Risk
DESCRIPTION:As technology continues to disrupt\, companies respond by reorganizing to adapt and survive. This increasingly brings the issue of severance and termination into sharp focus\, meaning the legal landscape has never been more complex for employers in Thailand. \n\n \n\nWith rapid development across many industries\, it is therefore critical that businesses keep up to speed with the latest considerations regarding employment law\, hiring beyond retirement age\, complex flexible benefits packages\, management of under-performing staff\, data protection and social media.\n\n \n\nAlways one of the highlights of the HR/Legal Committee calendar\, this interactive seminar session aims to bring you up to date with the latest changes and precedents in Thai Labor Law for 2020 with a focus on sharing practical tips on how to fairly and legally terminate employees from highly experienced legal professionals.\n\n\n\nOur Speakers:\n\nPisut Rakwong\, the Founder and Managing Partner of Pisut & Partners. His main areas of practice are dispute resolution\, corporate\, insolvency and restructuring\, trade competition\, labor & employment\, insurance\, administrative and white-collar criminal matters. Pisut also has extensive experience in Thai court proceedings\, as well as in arbitrations under the ICC and TAI rules. \n\n\n\nEdward T. Attanasio\, Senior Vice President\, World Wide Human Resources for Fabrinet Company\, Ltd.\, a publicly traded electronics manufacturing company headquartered in Thailand. He has been a practicing lawyer for over 30 years\, and is admitted to the bar of the State of California\, as well as several U.S. federal district and circuit courts.
X-ALT-DESC;FMTTYPE=text/html:As technology continues to disrupt\, companies respond by reorganizing to adapt and survive. This increasingly brings the issue of severance and termination into sharp focus\, meaning the legal landscape has never been more complex for employers in Thailand.&nbsp\;<br />\n&nbsp\;<br />\nWith rapid development across many industries\, it is therefore critical that businesses keep up to speed with the latest considerations regarding employment law\, hiring beyond retirement age\, complex flexible benefits packages\, management of under-performing staff\, data protection and social media.<br />\n&nbsp\;<br />\nAlways one of the highlights of the HR/Legal Committee calendar\, this interactive seminar session aims to bring you up to date with the latest changes and precedents in Thai Labor Law for 2020 with a focus on sharing practical tips on how to fairly and legally terminate employees from highly experienced legal professionals.<br />\n<br />\n<strong>Our Speakers:</strong><br />\n<a href="https://www.linkedin.com/in/pisut-rakwong-3b470212/">Pisut Rakwong</a>\, the Founder and Managing Partner of Pisut &amp\; Partners. His main areas of practice are dispute resolution\, corporate\, insolvency and restructuring\, trade competition\, labor &amp\; employment\, insurance\, administrative and white-collar criminal matters. Pisut also has extensive experience in Thai court proceedings\, as well as in arbitrations under the ICC and TAI rules.&nbsp\;<br />\n<br />\n<a href="https://www.linkedin.com/in/edward-attanasio-17589172/">Edward T. Attanasio</a>\, Senior Vice President\, World Wide Human Resources for Fabrinet Company\, Ltd.\, a publicly traded electronics manufacturing company headquartered in Thailand. He&nbsp\;has been a practicing lawyer for over 30 years\, and is admitted to the bar of the State of California\, as well as several U.S. federal district and circuit courts.
LOCATION:The Westin Grande Sukhumvit BTS Asok Exit 5 MRT Sukhumvit Exit 3 View Map
UID:e.3314.480
SEQUENCE:3
DTSTAMP:20260423T040205Z
URL:http://www.connect.amchamthailand.com/events/details/joint-hr-and-legal-committee-labor-law-updates-employee-termination-and-reducing-your-risk-480
END:VEVENT

END:VCALENDAR
