BEGIN:VCALENDAR
VERSION:2.0
PRODID:-//ChamberMaster//Event Calendar 2.0//EN
METHOD:PUBLISH
X-PUBLISHED-TTL:P3D
REFRESH-INTERVAL:P3D
CALSCALE:GREGORIAN
BEGIN:VEVENT
DTSTART:20200430T030000Z
DTEND:20200430T040000Z
X-MICROSOFT-CDO-ALLDAYEVENT:FALSE
SUMMARY:Joint HR and Travel & Tourism Committees Video Conference: Employment Challenges & Solutions During Covid-19
DESCRIPTION:In response to the significant economic fallout brought on by covid-19\, many companies are being forced to make difficult strategic decisions regarding staff and the business. The hospitality industry - as one of the earliest and hardest hit sectors - has had to make these decisions rapidly and has a number of examples and learnings for other industries.\n\n\n\nJoin AMCHAM for an interactive panel discussion on challenges and solutions for employers in current times. In addition to discussing the economic and legal ramifications of the State of Emergency\, our panelists will address how to position discussions with staff on difficult topics such as reduced hours\, layoffs\, and furloughs\; and share a case study of how one hotel has brought management\, employers\, and owners together to weather the storm.\n\n\n\nModerator: \n\nJohn Evans\, Tractus\n\n\n\nPanelists: \n\nIan Pascoe\, Managing Partner\, Grant Thornton\n\nCaroline Stevens\, Chief People Officer\, Minor Hotels\n\nBruno Huber\, General Manager\, M venpick BDMS Wellness Resort
X-ALT-DESC;FMTTYPE=text/html:In response to the significant economic fallout brought on by covid-19\, many companies are being forced to make difficult strategic decisions regarding staff and the business. The hospitality industry - as one of the earliest and hardest hit sectors - has had to make these decisions rapidly and has a number of examples and learnings for other industries.<br />\n<br />\nJoin AMCHAM for an interactive panel discussion on challenges and solutions for employers in current times. In addition to discussing the economic and legal ramifications of the State of Emergency\, our panelists will address how to position discussions with staff on difficult topics such as reduced hours\, layoffs\, and furloughs\; and share a case study of how one hotel has brought management\, employers\, and owners together to weather the storm.<br />\n<br />\n<strong>Moderator:</strong>&nbsp\;<br />\n<a href="https://www.linkedin.com/in/john-evans-9082755/?originalSubdomain=th">John Evans</a>\, Tractus<br />\n<br />\n<strong>Panelists:&nbsp\;</strong><br />\n<a href="https://www.linkedin.com/in/ian-pascoe-6205a4/?originalSubdomain=th">Ian Pascoe</a>\, Managing Partner\, Grant Thornton<br />\n<a href="https://www.linkedin.com/in/cmcgstevens/?originalSubdomain=th">Caroline Stevens</a>\, Chief People Officer\, Minor Hotels<br />\n<a href="https://www.linkedin.com/in/bruno-huber-28762335/?originalSubdomain=vn">Bruno Huber</a>\, General Manager\, <span style="font-family:arial\,sans-serif\;"><span style="font-size:11.0pt\;">M&ouml\;venpick BDMS Wellness Resort</span></span>
LOCATION:Video Conference
UID:e.3314.1599
SEQUENCE:3
DTSTAMP:20260422T221759Z
URL:http://www.connect.amchamthailand.com/events/details/joint-hr-and-travel-tourism-committees-video-conference-employment-challenges-solutions-during-covid-19-1599
END:VEVENT

END:VCALENDAR
