BEGIN:VCALENDAR
VERSION:2.0
PRODID:-//ChamberMaster//Event Calendar 2.0//EN
METHOD:PUBLISH
X-PUBLISHED-TTL:P3D
REFRESH-INTERVAL:P3D
CALSCALE:GREGORIAN
BEGIN:VEVENT
DTSTART:20220921T110000Z
DTEND:20220921T130000Z
X-MICROSOFT-CDO-ALLDAYEVENT:FALSE
SUMMARY:Joint HR & SBE Committees: Ask the Expert
DESCRIPTION:Calling all entrepreneurs and small businesses!\n\nAs any small business owner knows\, growing your company can require you to be CEO/Sales/HR/IT\, all at the same time.\n\nAMCHAM's HR and Small Business & Entrepreneurs (SBE) Committees have assembled an impressive array of business specialists for you. In our focused networking\, circulate through small group sessions with experts\, consultants\, and successful entrepreneurs who offer practical solutions to the challenges you face. The areas of focus are:\n\n\n	Talent Acquisition & Retention ? Richard Jackson\,  RLC Recruitment and Shaun Wong\, Siam Makro\n	Compensation & Benefits ? Naraphorn Inthachuea\, Willis Towers Watson\n	Legal ? Dr. Paul Crosio \, Silk Legal \n	PR & Marketing ? Tom Van Blarcom\, TQPR\n	Digital Transformation for SBE - Songphon Klabwong\, Divertise Asia\n	Fundraising - Robert Gilchrist\, Titan Capital \n\nCome network with your peers in the AMCHAM business community and ask your questions of the experts.
X-ALT-DESC;FMTTYPE=text/html:<p>Calling all entrepreneurs and small businesses!</p>\n\n<p>As any small business owner knows\, growing your company can require you to be CEO/Sales/HR/IT\, all at the same time.</p>\n\n<p>AMCHAM&#39\;s HR and Small Business &amp\; Entrepreneurs (SBE) Committees&nbsp\;have assembled an impressive&nbsp\;array&nbsp\;of business specialists for you. In our focused networking\, circulate through small&nbsp\;group sessions with experts\, consultants\, and successful entrepreneurs who offer practical solutions to the challenges you face. The areas of focus are:</p>\n\n<ul>\n	<li><span style="font-family:open sans\,sans-serif\;"><span style="font-size:10.0pt\;"><strong>Talent Acquisition &amp\; Retention</strong> ? <a href="https://www.linkedin.com/in/jacksonrichard/">Richard Jackson\,&nbsp\; RLC Recruitment</a>&nbsp\;and <a href="https://www.linkedin.com/in/shaun-wong-2b46319b/">Shaun Wong\, Siam Makro</a></span></span></li>\n	<li><span style="font-family:open sans\,sans-serif\;"><span style="font-size:10.0pt\;"><strong>Compensation &amp\; Benefits</strong> ? <a href="https://www.linkedin.com/in/naraphorn-inthachuea-2350a0128/">Naraphorn Inthachuea\, Willis Towers Watson</a></span></span></li>\n	<li><span style="font-family:open sans\,sans-serif\;"><span style="font-size:10.0pt\;"><strong>Legal</strong> ? <a href="https://www.linkedin.com/in/paul-crosio-89809a100/">Dr. Paul Crosio&nbsp\;</a><a href="https://www.linkedin.com/in/creightonfranz?miniProfileUrn=urn%3Ali%3Afs_miniProfile%3AACoAABp6OOYB_lgOF_zIcMCWSjh2pdU6C_lMW8g&amp\;lipi=urn%3Ali%3Apage%3Ad_flagship3_search_srp_all%3BAVbO8JA0RfeuCkcZZ%2FIKSw%3D%3D">\, Silk Legal</a> </span></span></li>\n	<li><span style="font-family:open sans\,sans-serif\;"><span style="font-size:10.0pt\;"><strong>PR &amp\; Marketing</strong> ? <a href="https://www.linkedin.com/in/tom-van-blarcom-96bb423/">Tom Van Blarcom\, TQPR</a></span></span></li>\n	<li><span style="font-family:open sans\,sans-serif\;"><span style="font-size:10.0pt\;"><strong>Digital Transformation for SBE</strong> - <a href="https://divertise.co.th/">Songphon Klabwong\, Divertise Asia</a></span></span></li>\n	<li><span style="font-family:open sans\,sans-serif\;"><span style="font-size:10.0pt\;"><strong>Fundraising</strong> - <a href="https://www.linkedin.com/in/robert-gilchrist-ba923b25/">Robert Gilchrist\, Titan Capital&nbsp\;</a></span></span></li>\n</ul>\nCome network with your peers in the AMCHAM business community and ask your questions of the experts.
LOCATION:The Urban Office\, L2\, Summer Point BTS: Phra Khanong
UID:e.3314.2277
SEQUENCE:3
DTSTAMP:20260420T180152Z
URL:http://www.connect.amchamthailand.com/events/details/joint-hr-sbe-committees-ask-the-expert-2277
END:VEVENT

END:VCALENDAR
