BEGIN:VCALENDAR
VERSION:2.0
PRODID:-//ChamberMaster//Event Calendar 2.0//EN
METHOD:PUBLISH
X-PUBLISHED-TTL:P3D
REFRESH-INTERVAL:P3D
CALSCALE:GREGORIAN
BEGIN:VEVENT
DTSTART:20191016T110000Z
DTEND:20191016T133000Z
X-MICROSOFT-CDO-ALLDAYEVENT:FALSE
SUMMARY:Joint HR & SME Committee Event: Practical HR & Legal Clinic for Small/Medium Enterprises
DESCRIPTION:How many plates are you currently spinning?\n\nAMCHAM presents a practical HR Clinic for SME businesses.\n\n\n\nSME organizations are increasingly under pressure to perform and business leaders needs to focus their time on securing a successful future for their business. However\, recent research shows that SME principals spend an average 2 days per week dealing with necessary HR/Legal issues. In many circumstances these are issues for which they have no formal training and rely on gut decisions as internal support and resources are limited. Finding the time to handle these essential subjects also usually has an opportunity cost to new business development or customer service.\n\n\n\nWith a view to providing best practice advice\, tips and case studies\, the HR and SME Committee have assembled a panel of experts to discuss the hottest HR-related topics affecting small businesses going into 2020. This includes:\n\n	Talent Attraction & Retention\n	Compensation & Benefits\n	Legal \n	Leadership & Talent Development\n	Performance Management\n	HR Information Technologies\n	Administration & Payroll\n\nJoin our panel for an open forum of discussion with a heavy emphasis on practical support and Q&A.
X-ALT-DESC;FMTTYPE=text/html:How many plates are you currently spinning?<br />\nAMCHAM presents a practical HR Clinic for SME businesses.<br />\n<br />\nSME organizations are increasingly under pressure to perform and business leaders needs to focus their time on securing a successful future for their business. However\, recent research shows that SME principals spend an average 2 days per week dealing with necessary HR/Legal issues. In many circumstances these are issues for which they have no formal training and rely on gut decisions as internal support and resources are limited. Finding the time to handle these essential subjects also usually has an opportunity cost to new business development or customer service.<br />\n<br />\nWith a view to providing best practice advice\, tips and case studies\, the HR and SME Committee have assembled a panel of experts to discuss the hottest HR-related topics affecting small businesses going into 2020. This includes:\n<ul>\n	<li>Talent Attraction &amp\; Retention</li>\n	<li>Compensation &amp\; Benefits</li>\n	<li>Legal&nbsp\;</li>\n	<li>Leadership &amp\; Talent Development</li>\n	<li>Performance Management</li>\n	<li>HR Information Technologies</li>\n	<li>Administration &amp\; Payroll</li>\n</ul>\nJoin our panel for an open forum of discussion with a heavy emphasis on practical support and Q&amp\;A.
LOCATION:Bourbon Street Restaurant & Oyster Bar\, 7th Floor Soi Sukhumvit 63\, Ekkamai (BTS Ekkamai) View a map
UID:e.3314.400
SEQUENCE:3
DTSTAMP:20260423T092518Z
URL:http://www.connect.amchamthailand.com/events/details/joint-hr-sme-committee-event-practical-hr-legal-clinic-for-small-medium-enterprises-400
END:VEVENT

END:VCALENDAR
