BEGIN:VCALENDAR
VERSION:2.0
PRODID:-//ChamberMaster//Event Calendar 2.0//EN
METHOD:PUBLISH
X-PUBLISHED-TTL:P3D
REFRESH-INTERVAL:P3D
CALSCALE:GREGORIAN
BEGIN:VEVENT
DTSTART:20210222T070000Z
DTEND:20210222T080000Z
X-MICROSOFT-CDO-ALLDAYEVENT:FALSE
SUMMARY:Joint Legal and HR Committees: PDPA Preparedness Series - How will Thailand’s PDPA impact Human Resources?
DESCRIPTION:With Thailand's PDPA coming into effect in June\, many companies have been focused on customer data. However\, with management of data subjects and their rights\, some businesses have overlooked a key risk that all companies face: employees. \n\n\n\nAMCHAM is delighted to welcome two distinguished speakers from the legal and HR fields to present on implications of PDPA\, specifically to managing human resource risks. As Senior Vice President at Fabrinet\, Edward Attanasio is the head of worldwide human resources for over 10\,000 employees worldwide. Marion Carles-Salmon\, Head of Labor and Employment Practice at DFDL\, will examine the legal issues with a specific focus on HR. Please join us for a presentation followed by an active question and answer session.
X-ALT-DESC;FMTTYPE=text/html:<p paraeid="{f6fcaf0a-38a4-4184-9d1b-8d536f65c1b4}{191}" paraid="1114004359">With&nbsp\;Thailand&rsquo\;s PDPA&nbsp\;coming into&nbsp\;effect in June\, many companies have been focused on customer data. However\, with management of data subjects and their rights\, some businesses have overlooked a key risk that all companies face: employees.&nbsp\;<br />\n<br />\nAMCHAM is delighted to welcome two distinguished speakers from the legal and HR fields to present on implications of PDPA\, specifically to managing human resource risks.&nbsp\;As Senior Vice President at Fabrinet\, <a href="https://www.linkedin.com/in/edward-attanasio-17589172/">Edward Attanasio</a>&nbsp\;is the head of worldwide human resources for over 10\,000 employees worldwide.&nbsp\;<a href="https://www.linkedin.com/in/marion-carles-salmon-5657a890/">Marion Carles-Salmon</a>\, Head of Labor and Employment Practice at DFDL\, will examine the legal issues with a specific focus on HR. Please join us for a presentation followed by an active question and answer session.</p>\n
LOCATION:Video Conference
UID:e.3314.1829
SEQUENCE:3
DTSTAMP:20260422T044629Z
URL:http://www.connect.amchamthailand.com/events/details/joint-legal-and-hr-committees-pdpa-preparedness-series-how-will-thailand-s-pdpa-impact-human-resources-1829
END:VEVENT

END:VCALENDAR
