BEGIN:VCALENDAR
VERSION:2.0
PRODID:-//ChamberMaster//Event Calendar 2.0//EN
METHOD:PUBLISH
X-PUBLISHED-TTL:P3D
REFRESH-INTERVAL:P3D
CALSCALE:GREGORIAN
BEGIN:VEVENT
DTSTART:20220725T020000Z
DTEND:20220725T030000Z
X-MICROSOFT-CDO-ALLDAYEVENT:FALSE
SUMMARY:Joint Legal & Tourism and Hospitality Committees: Financing the Return of Thailand’s Hospitality Sector
DESCRIPTION:The hospitality sector is quickly arising from the Covid-19 pandemic with greater arrivals and bookings\, but are asset values also recovering and is capital readily available for the sector?  In this panel discussion we will look at what role mezzanine lenders bring in place of traditional lenders\, whether the sector is ready for alternative forms of financing (e.g. real estate backed tokenization)\, and whether traditional commercial bank financing will return as the preferred source of finance for hospitality projects in Thailand.  Join legal\, hospitality\, and financial sector experts who will examine the current state of financing for Thailand's hospitality sector and how key challenges are being addressed through existing and new financial models. \n\n\n\nAbout the speakers\n\n \n\nPaul Volodarsky\, Senior Legal Adviser & Deputy Head of Regional Real Estate & Construction\, DFDL\n\nPaul is a senior associate and co-head of DFDL's regional real estate practice. He has advised individual buyers\, developers\, and investment groups on real estate investment in Vietnam and Thailand with a focus on logistics\, industrial\, and hospitality markets throughout Southeast Asia. \n\n \n\nPeerasanti Somritutai\, Partner and Head of Real Estate Practice\, Kudun & Partners \n\nPeerasanti is a partner and head of the real estate practice of Kudun & Partners. He has substantial experience in corporate\, mergers and acquisitions matters\, including the acquisition and disposal of equity interests in listed companies\, non-recourse and limited-recourse project financing\, real estate\, hotel and resort financing and development\, as well as energy and infrastructure projects.\n\n \n\nTapanan Rattananate\, Director & Head of Product & Institutional Coverage\, ALLY Global\n\nTapanan Rattananate (Dew) is an experienced finance professional with a demonstrated history of working in the Banking & Product Development. He is skilled in Fund raising\, Project finance\, Relationship management\, Business analysis\, and Security analysis. He holds a Master of Business Administration (MBA) focused in Accounting and Finance from Kellogg School of Management.\n\n\n\nJacob Samuel\, Managing Director\, Ares SSG Group\n\nJacob Samuel is a Managing Director in the Ares SSG Group. Prior to joining Ares in 2020\, Jacob was an Executive Director at SSG Group\, where he focused on analyzing\, structuring and executing distressed\, non-performing loans and special situation investments across Asia. Previously\, he was a Vice President at Deutsche Bank AG\, Hong Kong\, where he focused on the structuring and execution of high yield and leveraged finance loans in the Asia-Pacific region. He holds a B.E. from the Birla Institute of Technology in Computer Science and a Post Graduate Diploma in Management from the Indian Institute of Management\, Bangalore.
X-ALT-DESC;FMTTYPE=text/html:The hospitality sector is quickly arising from the Covid-19 pandemic with greater arrivals and bookings\, but are asset values also recovering and is capital readily available for the sector?&nbsp\; In this panel discussion we will look at what role mezzanine lenders bring in place of traditional lenders\, whether the sector is ready for alternative forms of financing (e.g. real estate backed tokenization)\, and whether traditional commercial bank financing will return as the preferred source of finance for hospitality projects in Thailand. &nbsp\;Join legal\, hospitality\, and financial sector experts who will examine the current state of financing for Thailand&#39\;s hospitality sector and how key challenges are being addressed through existing and new financial models.&nbsp\;<br />\n<br />\n<strong>About the speakers<br />\n&nbsp\;</strong><br />\n<a href="https://www.linkedin.com/in/paul-d-volodarsky-43435411/">Paul Volodarsky</a>\, Senior Legal Adviser &amp\; Deputy Head of Regional Real Estate &amp\; Construction\, DFDL<br />\nPaul is a senior associate and co-head of DFDL&#39\;s regional real estate practice. He has advised individual buyers\, developers\, and investment groups on real estate investment in Vietnam and Thailand with a focus on logistics\, industrial\, and hospitality markets throughout Southeast Asia.&nbsp\;<br />\n&nbsp\;<br />\n<a href="https://www.linkedin.com/in/peerasanti-somritutai-02a02613b/">Peerasanti Somritutai</a>\, Partner and Head of Real Estate Practice\, Kudun &amp\; Partners&nbsp\;<br />\nPeerasanti is a partner and head of the real estate practice of Kudun &amp\; Partners. He has substantial experience in corporate\, mergers and acquisitions matters\, including the acquisition and disposal of equity interests in listed companies\, non-recourse and limited-recourse project financing\, real estate\, hotel and resort financing and development\, as well as energy and infrastructure projects.<br />\n&nbsp\;<br />\n<a href="https://www.linkedin.com/in/tapanan/?originalSubdomain=th">Tapanan Rattananate</a>\, Director &amp\; Head of Product &amp\; Institutional Coverage\,&nbsp\;ALLY Global<br />\nTapanan Rattananate (Dew) is an experienced finance professional with a demonstrated history of working in the Banking &amp\; Product Development. He is skilled in Fund raising\, Project finance\, Relationship management\, Business analysis\, and Security analysis. He holds a Master of Business Administration (MBA) focused in Accounting and Finance from Kellogg School of Management.<br />\n<br />\n<a href="https://www.linkedin.com/in/jacob-samuel-a326b52/">Jacob Samuel</a>\, Managing Director\, Ares SSG Group<br />\nJacob Samuel is a Managing Director in the Ares SSG Group. Prior to joining Ares in 2020\, Jacob was an Executive Director at SSG Group\, where he focused on analyzing\, structuring and executing distressed\, non-performing loans and special situation investments across Asia. Previously\, he was a Vice President at Deutsche Bank AG\, Hong Kong\, where he focused on the structuring and execution of high yield and leveraged finance loans in the Asia-Pacific region. He holds a B.E. from the Birla Institute of Technology in Computer Science and a Post Graduate Diploma in Management from the Indian Institute of Management\, Bangalore.<br />\n&nbsp\;
LOCATION:Webinar
UID:e.3314.2243
SEQUENCE:3
DTSTAMP:20260420T201117Z
URL:http://www.connect.amchamthailand.com/events/details/joint-legal-tourism-and-hospitality-committees-financing-the-return-of-thailand-s-hospitality-sector-2243
END:VEVENT

END:VCALENDAR
