BEGIN:VCALENDAR
VERSION:2.0
PRODID:-//ChamberMaster//Event Calendar 2.0//EN
METHOD:PUBLISH
X-PUBLISHED-TTL:P3D
REFRESH-INTERVAL:P3D
CALSCALE:GREGORIAN
BEGIN:VEVENT
DTSTART:20230519T093000Z
DTEND:20230519T110000Z
X-MICROSOFT-CDO-ALLDAYEVENT:FALSE
SUMMARY:Joint Manufacturing\, HR & Legal Committees: From Hiring to Firing - Significant Considerations and Updates for Employers in Thailand
DESCRIPTION:The AMCHAM Manufacturing\, HR\, and Legal Committees invite members to join their update on employment law in Thailand. Focusing on key milestones along the employment timeline\, our speakers will aim to provide practical advice for employers\, particularly those in the manufacturing industry\, at the following critical junctures:\n\n	Starting everything the right way: considerations for hiring.\n	The in-between period: considerations around work conditions\, including a discussion of the new Work from Home legislation.\n	Ending the relationship : considerations for termination\, such as requirements for contract termination and labor court proceedings.\n\nIn addition to the above\, our speakers will also address recent significant changes and developments that all employers in Thailand should be aware of.\n\n \n\nOur speakers:\n\n \n\nParada Saibua\, Senior Associate\, DLA Piper. Parada is a senior associate in the firm's employment practice group\, with broad experience in employment advice\, corporate governance\, employment disputes\, bankruptcy cases and commercial disputes. He has represented Thai and multinational companies in a wide range of labor and employment matters\,and has extensive experience in labor court proceedings. Parada graduated from law school at Thammasart University and holds an LL.M. in Labour Law and Corporate Governance from the University of Bristol. He is a member of the Thai Bar Association and the Lawyers Council of Thailand.\n\n \n\nSuruswadee Jaimsuwan\, Counsel\, Tilleke & Gibbins. Suruswadee is a senior litigator in the firm's dispute resolution department. A former judge of the Thai Courts of Justice\, Suruswadee has extensive legal experience on and off the bench\, bolstered by a deep knowledge of Thai law and court procedure. Suruswadee has also worked for Thailand's Department of Labour Protection and Welfare under a scholarship from the Office of the Civil Service Commission\, working closely with various governmental authorities on labor law research and development. In addition to her legal education in Thailand\, the United Kingdom\, and Australia\, Suruswadee has received training from the Straus Institute for Dispute Resolution at Pepperdine University\, the Centre for Asia-Pacific Initiatives at the University of Victoria\, and the International Training Centre of the International Labor Organization\, and is listed as arbitrator for both the Thailand Arbitration Center (THAC) and the Thai Arbitration Institute (TAI).
X-ALT-DESC;FMTTYPE=text/html:<div><span style="background:white\;"><span style="color:#333333\;"><span style="font-family:arial\,sans-serif\;"><span style="font-size:10.0pt\;">The AMCHAM Manufacturing\, HR\, and Legal Committees invite members to join their update on employment law in Thailand. Focusing on key milestones along the employment timeline\, our speakers will aim to provide practical advice for employers\, particularly those in the manufacturing industry\, at the following critical junctures:</span></span></span></span>\n<ul>\n	<li style="color:#333333\;background:white\;"><span style="font-family:arial\,sans-serif\;"><span style="font-size:10.0pt\;">Starting everything the right way: considerations for hiring.</span></span></li>\n	<li style="color:#333333\;background:white\;"><span style="font-family:arial\,sans-serif\;"><span style="font-size:10.0pt\;">The in-between period: considerations around work conditions\, including a discussion of the new Work from Home legislation.</span></span></li>\n	<li style="color:#333333\;background:white\;"><span style="font-family:arial\,sans-serif\;"><span style="font-size:10.0pt\;">Ending the relationship : considerations for termination\, such as requirements for contract termination and labor court proceedings.</span></span></li>\n</ul>\n<span style="background:white\;"><span style="color:#333333\;"><span style="font-family:arial\,sans-serif\;"><span style="font-size:10.0pt\;">In addition to the above\, our speakers will also address recent significant changes and developments that all employers in Thailand should be aware of.</span></span></span></span><br style="font-variant-ligatures:normal\;font-variant-caps:normal\;orphans:2\;text-align:start\;widows:2\;-webkit-text-stroke-width:0px\;text-decoration-thickness:initial\;text-decoration-style:initial\;word-spacing:0px\;">\n<span style="color:#333333\;"><span style="font-family:arial\,sans-serif\;"><span style="font-size:10.0pt\;">&nbsp\;<br style="font-variant-ligatures:normal\;font-variant-caps:normal\;orphans:2\;text-align:start\;widows:2\;-webkit-text-stroke-width:0px\;text-decoration-thickness:initial\;text-decoration-style:initial\;word-spacing:0px\;">\n<strong style="font-variant-ligatures:normal\;font-variant-caps:normal\;orphans:2\;text-align:start\;widows:2\;-webkit-text-stroke-width:0px\;text-decoration-thickness:initial\;text-decoration-style:initial\;word-spacing:0px\;"><span style="background:white\;"><span style="font-family:arial\,sans-serif\;">Our speakers:</span></span></strong><br style="font-variant-ligatures:normal\;font-variant-caps:normal\;orphans:2\;text-align:start\;widows:2\;-webkit-text-stroke-width:0px\;text-decoration-thickness:initial\;text-decoration-style:initial\;word-spacing:0px\;">\n&nbsp\;</span></span></span><br style="font-variant-ligatures:normal\;font-variant-caps:normal\;orphans:2\;text-align:start\;widows:2\;-webkit-text-stroke-width:0px\;text-decoration-thickness:initial\;text-decoration-style:initial\;word-spacing:0px\;">\n<a href="https://www.linkedin.com/in/parada-saibua-4136b174/?originalSubdomain=th" style="font-variant-ligatures:normal\;font-variant-caps:normal\;orphans:2\;text-align:start\;widows:2\;-webkit-text-stroke-width:0px\;word-spacing:0px\;"><span style="background:white\;"><span style="color:#0782C1\;"><span style="font-family:arial\,sans-serif\;"><span style="font-size:10.0pt\;">Parada Saibua</span></span></span></span></a><span style="background:white\;"><span style="color:#333333\;"><span style="font-family:arial\,sans-serif\;"><span style="font-size:10.0pt\;"><span style="font-variant-ligatures:normal\;font-variant-caps:normal\;orphans:2\;text-align:start\;widows:2\;-webkit-text-stroke-width:0px\;text-decoration-thickness:initial\;text-decoration-style:initial\;float:none\;word-spacing:0px\;">\, Senior Associate\, DLA Piper.</span><span style="color:#333333\;"><span style="font-family:arial\,sans-serif\;"><span style="font-size:10.0pt\;"> <span style="background:white\;">Parada is a senior associate in the firm's employment practice group\, with broad experience in employment advice\, corporate governance\, employment disputes\, bankruptcy cases and commercial disputes. He has represented Thai and multinational companies in a wide range of labor and employment matters\,and has extensive experience in labor court proceedings. Parada graduated from law school at Thammasart University and holds an LL.M. in Labour Law and Corporate Governance from the University of Bristol. He is a member of the Thai Bar Association and the Lawyers Council of Thailand.</span></span></span></span><br style="font-variant-ligatures:normal\;font-variant-caps:normal\;orphans:2\;text-align:start\;widows:2\;-webkit-text-stroke-width:0px\;text-decoration-thickness:initial\;text-decoration-style:initial\;word-spacing:0px\;">\n&nbsp\;</span></span></span></span><br style="font-variant-ligatures:normal\;font-variant-caps:normal\;orphans:2\;text-align:start\;widows:2\;-webkit-text-stroke-width:0px\;text-decoration-thickness:initial\;text-decoration-style:initial\;word-spacing:0px\;">\n<a href="https://www.linkedin.com/in/suruswadee-jaimsuwan-a53aab184/" style="font-variant-ligatures:normal\;font-variant-caps:normal\;orphans:2\;text-align:start\;widows:2\;-webkit-text-stroke-width:0px\;word-spacing:0px\;"><span style="background:white\;"><span style="color:#0782C1\;"><span style="font-family:arial\,sans-serif\;"><span style="font-size:10.0pt\;">Suruswadee Jaimsuwan</span></span></span></span></a><span style="background:white\;"><span style="color:#333333\;"><span style="font-family:arial\,sans-serif\;"><span style="font-size:10.0pt\;"><span style="font-variant-ligatures:normal\;font-variant-caps:normal\;orphans:2\;text-align:start\;widows:2\;-webkit-text-stroke-width:0px\;text-decoration-thickness:initial\;text-decoration-style:initial\;float:none\;word-spacing:0px\;">\, Counsel\, Tilleke &amp\; Gibbins. Suruswadee is a senior litigator in the firm's dispute resolution department. A former judge of the Thai Courts of Justice\, Suruswadee has extensive legal experience on and off the bench\, bolstered by a deep knowledge of Thai law and court procedure. Suruswadee has also worked for Thailand's Department of Labour Protection and Welfare under a scholarship from the Office of the Civil Service Commission\, working closely with various governmental authorities on labor law research and development.</span><span style="color:#333333\;"><span style="font-family:arial\,sans-serif\;"><span style="font-size:10.0pt\;"> <span style="background:white\;">In addition to her legal education in Thailand\, the United Kingdom\, and Australia\, Suruswadee has received training from the Straus Institute for Dispute Resolution at Pepperdine University\, the Centre for Asia-Pacific Initiatives at the University of Victoria\, and the International Training Centre of the International Labor Organization\, and is listed as arbitrator for both the Thailand Arbitration Center (THAC) and the Thai Arbitration Institute (TAI).</span></span></span></span></span></span></span></span><br>\n&nbsp\;</div>\n
LOCATION:Holiday Inn Pattaya\, Auditorium
UID:e.3314.2405
SEQUENCE:3
DTSTAMP:20260420T034331Z
URL:http://www.connect.amchamthailand.com/events/details/joint-manufacturing-hr-legal-committees-from-hiring-to-firing-significant-considerations-and-updates-for-employers-in-thailand-2405
END:VEVENT

END:VCALENDAR
