BEGIN:VCALENDAR
VERSION:2.0
PRODID:-//ChamberMaster//Event Calendar 2.0//EN
METHOD:PUBLISH
X-PUBLISHED-TTL:P3D
REFRESH-INTERVAL:P3D
CALSCALE:GREGORIAN
BEGIN:VEVENT
DTSTART:20220630T093000Z
DTEND:20220630T111000Z
X-MICROSOFT-CDO-ALLDAYEVENT:FALSE
SUMMARY:Joint Panel Discussion: Thailand Real Estate Outlook for Wellness Living\, Tourism & MICE
DESCRIPTION:Please note that this event is hosted by the BeluThai Chamber and event requirements may differ from AMCHAM. Clicking the link will bring you to their registration page and away from the AMCHAM website.\n\nREGISTER NOW\n\n\n\nThe Belgian-Luxembourg/Thai Chamber of Commerce (BeLuThai)\, in collaboration with The American Chamber of Commerce in Thailand (AMCHAM)\, The Thai-Canadian Chamber of Commerce (CanCham Thailand)\, The European Association for Business and Commerce (EABC)\, The Joint Foreign Chambers of Commerce in Thailand (JFCCT)\, The Singapore-Thai Chamber of Commerce (STCC)\, The SwissThai Chamber of Commerce (STCC)\, The Thai-Finnish Chamber of Commerce (TFCC)\, and Thai-Sri Lanka Chamber of Commerce (TSLCC)\, is delighted to invite you to join us for the "Multi-Chamber Panel Discussion: Thailand Real Estate Outlook for Wellness Living\, Tourism & MICE". The panel discussion will be held on June 30th\, 2022\, time 16:30 - 18:10 hrs. at The Peninsula Bangkok Hotel\, Charoen Nakhon Road.\n\n\n\nUnder the main theme of "Thailand Real Estate Outlook for Wellness Living\, Tourism & MICE"\, this panel discussion is aimed to provide the upcoming foreign exhibition and seminar organizing trends and outlook in Thailand for BeLuThai members and guests.\n\n\n\nWe believe this panel could be a space to share business information and experiences with our community as well as have a piece of insight information regarding the Real Estate Market in Thailand.\n\n\n\nSincere thanks to our Event Sponsors - Thailand Convention and Exhibition Bureau (TCEB) and WHA Industrial Development Public Company Limited.\n\n\n\n*** Registration is required before Tuesday 28th June at 5 pm. ***
X-ALT-DESC;FMTTYPE=text/html:<p>Please note that this event is hosted by the BeluThai Chamber&nbsp\;and event requirements may&nbsp\;differ from AMCHAM. Clicking the link will bring you to their registration page and away from the AMCHAM website.</p>\n\n<p><a href="https://www.beluthai.org/event/beluthai-panel-discussion-thailand-real-estate-outlook-for-wellness-living-tourism-mice-2022-06-30-22">REGISTER NOW</a><br />\n<br />\nThe Belgian-Luxembourg/Thai Chamber of Commerce (BeLuThai)\, in collaboration with The American Chamber of Commerce in Thailand (AMCHAM)\, The Thai-Canadian Chamber of Commerce (CanCham Thailand)\, The European Association for Business and Commerce (EABC)\, The Joint Foreign Chambers of Commerce in Thailand (JFCCT)\, The Singapore-Thai Chamber of Commerce (STCC)\, The SwissThai Chamber of Commerce (STCC)\, The Thai-Finnish Chamber of Commerce (TFCC)\, and Thai-Sri Lanka Chamber of Commerce (TSLCC)\, is delighted to invite you to join us for the &ldquo\;Multi-Chamber Panel Discussion: Thailand Real Estate Outlook for Wellness Living\, Tourism &amp\; MICE&rdquo\;. The panel discussion will be held on June 30th\, 2022\, time 16:30 - 18:10 hrs. at The Peninsula Bangkok Hotel\, Charoen Nakhon Road.<br />\n<br />\nUnder the main theme of &ldquo\;Thailand Real Estate Outlook for Wellness Living\, Tourism &amp\; MICE&rdquo\;\, this panel discussion is aimed to provide the upcoming foreign exhibition and seminar organizing trends and outlook in Thailand for BeLuThai members and guests.<br />\n<br />\nWe believe this panel could be a space to share business information and experiences with our community as well as have a piece of insight information regarding the Real Estate Market in Thailand.<br />\n<br />\nSincere thanks to our Event Sponsors - Thailand Convention and Exhibition Bureau (TCEB) and WHA Industrial Development Public Company Limited.<br />\n<br />\n*** Registration is required before Tuesday 28th June at 5 pm. ***</p>\n
LOCATION:The Peninsula Bangkok
UID:e.3314.2230
SEQUENCE:3
DTSTAMP:20260420T215645Z
URL:http://www.connect.amchamthailand.com/events/details/joint-panel-discussion-thailand-real-estate-outlook-for-wellness-living-tourism-mice-2230
END:VEVENT

END:VCALENDAR
