BEGIN:VCALENDAR
VERSION:2.0
PRODID:-//ChamberMaster//Event Calendar 2.0//EN
METHOD:PUBLISH
X-PUBLISHED-TTL:P3D
REFRESH-INTERVAL:P3D
CALSCALE:GREGORIAN
BEGIN:VEVENT
DTSTART:20230727T110000Z
DTEND:20230727T130000Z
X-MICROSOFT-CDO-ALLDAYEVENT:FALSE
SUMMARY:Joint SBE & Food and Agri-Business Committees: The Life Cycle of a Start-Up Part 3 – Startup Growth and Expansion Strategy
DESCRIPTION:This SBE Committee event is part three of a series focused on starting\, scaling\, going to market\, and stabilizing a small business/startup. This event centers on growing your business and scaling it successfully. Our goal is to help the audience plan growth\, avoid massive costs when scaling\, and ensure a business' internal processes are working to maximize revenue.\n\n\n\nOur expert panelists will engage in a moderated discussion on exploring the best practices\, strategies\, and nuances around growth and scaling before opening the floor to questions from attendees.\n\n\n\nOur speakers:\n\nKevin Bloom\, Founder of MessageSpring Inc. MessageSpring is a communication platform that simplifies life by reaching the people most important to you with the right message\, at the right time\, and the right language   all through a single dashboard. A former Intel Analyst in the US Marines\, specializing in the Air Order of Battle for Persian Gulf nations\, Kevin went on to fly MiGs in Moscow. He sold his first company (Pathway Systems) in 1999 and the second one (PWS Consulting Company) in 2008. Kevin is an international sales\, business\, and information technology professional with a history of building high-performance multicultural teams and delivering results.\n\n\n\nNikon Gormley\, Founder of Innerspark Group\, and Super 7 Taekwondo\, Co-Founder of Better Founders\, and Managing Partner at Gormley Glass. Nikon is a Transformative Coach\, Founder\, Taekwondo Master\, Educator and CEO\, based in Bangkok\, Thailand. Specializing in Human Potential\, Growth Strategy\, Transformation\, Leadership Development\, Business Performance and Accelerated Learning. He helps successful entrepreneurs\, leaders\, and business owners elevate their capability and impact. He does that by helping them learn to harness the power and insight that is available through understanding the number one driver of performance   state of mind.
X-ALT-DESC;FMTTYPE=text/html:This SBE Committee event is part three of a series focused on starting\, scaling\, going to market\, and stabilizing a small business/startup. This event centers on growing your business and scaling it successfully.&nbsp\;Our goal is to help the audience plan growth\, avoid massive costs when scaling\, and ensure a business&rsquo\; internal processes are working to maximize revenue.<br />\n<br />\nOur expert panelists will engage in a moderated discussion on exploring the best practices\, strategies\, and nuances around growth and scaling before opening the floor to questions from attendees.<br />\n<br />\n<strong>Our speakers:</strong><br />\n<strong><a href="http://www.linkedin.com/in/kevinbloom/">Kevin Bloom</a>\, </strong>Founder of&nbsp\;<a href="https://www.messagespring.com/">MessageSpring Inc.</a>&nbsp\;MessageSpring is a communication platform that simplifies life by reaching the people most important to you with the right message\, at the right time\, and the right language &ndash\; all through a single dashboard. A former Intel Analyst in the US Marines\, specializing in the Air Order of Battle for Persian Gulf nations\, Kevin went on to fly MiGs in Moscow. He sold his first company (Pathway Systems) in 1999 and the second one (PWS Consulting Company) in 2008. Kevin is an international sales\, business\, and information technology professional with a history of building high-performance multicultural teams and delivering results.<br />\n<br />\n<strong><a href="http://www.linkedin.com/in/njgormley/">Nikon Gormley</a>\,</strong>&nbsp\;Founder of&nbsp\;<a href="http://www.nikongormley.com/">Innerspark Group</a>\, and&nbsp\;<a href="http://www.super7taekwondo.com/">Super 7 Taekwondo</a>\,&nbsp\;Co-Founder of&nbsp\;<a href="https://www.linkedin.com/company/better-founders/">Better Founders</a>\, and&nbsp\;Managing Partner at&nbsp\;<a href="http://www.gormleyglass.com/">Gormley Glass</a>. Nikon is a Transformative Coach\, Founder\, Taekwondo Master\, Educator and CEO\, based in Bangkok\, Thailand.&nbsp\;Specializing in Human Potential\, Growth Strategy\, Transformation\, Leadership Development\, Business Performance and Accelerated Learning.&nbsp\;He helps successful entrepreneurs\, leaders\, and business owners elevate their capability and impact. He does that by helping them learn to harness the power and insight that is available through understanding the number one driver of performance &ndash\;&nbsp\;state of mind.
LOCATION:ZillaSpace Townhall\, FYI Center (11th Floor)
UID:e.3314.2560
SEQUENCE:3
DTSTAMP:20260419T235829Z
URL:http://www.connect.amchamthailand.com/events/details/joint-sbe-food-and-agri-business-committees-the-life-cycle-of-a-start-up-part-3-startup-growth-and-expansion-strategy-2560
END:VEVENT

END:VCALENDAR
