BEGIN:VCALENDAR
VERSION:2.0
PRODID:-//ChamberMaster//Event Calendar 2.0//EN
METHOD:PUBLISH
X-PUBLISHED-TTL:P3D
REFRESH-INTERVAL:P3D
CALSCALE:GREGORIAN
BEGIN:VEVENT
DTSTART:20230623T020000Z
DTEND:20230623T033000Z
X-MICROSOFT-CDO-ALLDAYEVENT:FALSE
SUMMARY:Joint Tax\, Business Economics Committees and Customs and Excise Council: Transfer Pricing Video Conference
DESCRIPTION:UPDATE: The program description has been updated to reflect the addition of speakers from our Customs & Excise Council.  Please note that the program has now been extended to 1.5 hours and will finish at 10:30 am.\n\n\n\nThe AMCHAM Tax Committee is delighted to welcome you to their quarterly meeting\, which will focus on the issue of transfer pricing\, in conjunction with the Business Economics Committee and the Customs & Excise Council. Mitsuru Nishiuwatoko\, Senior Counsel of Mahanakorn Partners Group will provide background and updates about Transfer Pricing obligations\, covering tax audits and advance pricing agreements (APAs). \n\n\n\nIn addition\, the AMCHAM Customs & Excise Councils co-chairs will share insights and challenges of transfer pricing adjustments in intercompany transactions\, and discuss strategies employed by multinational corporations to effectively manage transfer pricing risks and comply with regulatory frameworks.\n\n \n\nThe event will be followed by a Q&A session and open conversation moderated by our tax committee leaders. Whether you are a tax professional\, CFO or consultant\, this event is a prime opportunity to bring your questions on this complex topic to an array of experts from our AMCHAM community.\n\n \n\n\nAgenda\n\n- Welcome \n\n- John Andes\, KPMG - Discuss the impact to Thailand of the 15% Global Minimum Tax to be introduced under BEPS 2.0 Pillar 2.  The Revenue Department is currently drafting legislation\, which will affect investors in Thailand\, especially those with tax incentives under BOI and IBC.\n\n- Mitsuru Nishiuwatoko\, Mahanakorn Partners Group - Update on Transfer Pricing in Thailand\, including an overview of the requirements to prepare documentation and price inter-company transactions at arm's length and Advance Pricing Agreements (APAs) and TP adjustments.\n\n- Paul Sumner\, PwC - Update on TP and Customs duty\, especially TP adjustments - which can be controversial upon tax audit for both Corporate Income Tax and Customs Duty purposes.\n\n- Q&A
X-ALT-DESC;FMTTYPE=text/html:<div><em><strong>UPDATE: The program description has been updated to reflect the addition of speakers from our Customs &amp\; Excise Council.&nbsp\; Please note that the program has now been extended to 1.5 hours and will finish at 10:30 am.</strong></em><br />\n<br />\nThe AMCHAM Tax Committee is delighted to welcome you to their quarterly meeting\, which will focus on the issue of transfer pricing\, in conjunction with the Business Economics Committee&nbsp\;and the Customs &amp\; Excise Council. Mitsuru Nishiuwatoko\, Senior Counsel of Mahanakorn Partners Group will provide background and updates about Transfer Pricing obligations\, covering tax audits and advance pricing agreements (APAs).&nbsp\;</div>\n\n<div><br />\nIn addition\, the AMCHAM Customs &amp\; Excise Councils co-chairs will share insights and challenges of transfer pricing adjustments in intercompany transactions\, and discuss strategies employed by multinational corporations to effectively manage transfer pricing risks and comply with regulatory frameworks.</div>\n\n<div>&nbsp\;</div>\n\n<div>The event will be followed by a Q&amp\;A session and open conversation moderated by our tax committee leaders. Whether you are a tax professional\, CFO or&nbsp\;consultant\, this event is a prime opportunity to bring your questions on this complex topic to an array of experts from our AMCHAM community.</div>\n\n<div>&nbsp\;</div>\n\n<div>\n<div><strong>Agenda</strong></div>\n\n<div>- Welcome&nbsp\;</div>\n\n<div>- <a href="https://www.linkedin.com/in/john-andes-800b2b50/">John Andes</a>\, KPMG -&nbsp\;Discuss the impact to Thailand of the 15% Global Minimum Tax to be introduced under BEPS 2.0 Pillar 2.&nbsp\; The Revenue Department is currently drafting legislation\, which will affect investors in Thailand\, especially those with tax incentives under BOI and IBC.</div>\n\n<div>- <a href="https://www.linkedin.com/in/mitsurunishiuwatoko/">Mitsuru Nishiuwatoko</a>\, Mahanakorn Partners Group - Update on Transfer Pricing in Thailand\, including an overview of the requirements to prepare documentation and price inter-company transactions at arm&rsquo\;s length and Advance Pricing Agreements (APAs) and TP adjustments.</div>\n\n<div>- <a href="https://www.linkedin.com/in/paul-sumner-2784b313/">Paul Sumner</a>\, PwC&nbsp\;- Update on TP and Customs duty\, especially TP adjustments - which can be controversial upon tax audit for both Corporate Income Tax and Customs Duty purposes.</div>\n\n<div>- Q&amp\;A</div>\n</div>\n
LOCATION:Video conference
UID:e.3314.2550
SEQUENCE:3
DTSTAMP:20260419T235703Z
URL:http://www.connect.amchamthailand.com/events/details/joint-tax-business-economics-committees-and-customs-and-excise-council-transfer-pricing-video-conference-2550
END:VEVENT

END:VCALENDAR
