BEGIN:VCALENDAR
VERSION:2.0
PRODID:-//ChamberMaster//Event Calendar 2.0//EN
METHOD:PUBLISH
X-PUBLISHED-TTL:P3D
REFRESH-INTERVAL:P3D
CALSCALE:GREGORIAN
BEGIN:VEVENT
DTSTART:20191113T013000Z
DTEND:20191113T033000Z
X-MICROSOFT-CDO-ALLDAYEVENT:FALSE
SUMMARY:Joint Trade & Investment and Digital Economy Committee: Planning Meeting with USTDA
DESCRIPTION:The AMCHAM Joint Trade & Investment and Digital Economy Committee are hosting a planning meeting with the USTDA  to discuss new developments and trends in the industry and collaborate to plan and host events together. The U.S. Trade and Development Agency helps companies create U.S. jobs through the export of U.S. goods and services for priority development projects in emerging economies.
X-ALT-DESC;FMTTYPE=text/html:The AMCHAM Joint Trade &amp\; Investment and Digital Economy Committee are hosting a planning meeting with the USTDA&nbsp\; to discuss new developments and trends in the industry and collaborate to plan and host events together. The U.S. Trade and Development Agency helps companies create U.S. jobs through the export of U.S. goods and services for priority development projects in emerging economies.
LOCATION:Location: AMCHAM Office\, Citi Boardroom (GPF Witthayu\, 7th Floor) Nearest BTS: Ploenchit
UID:e.3314.384
SEQUENCE:3
DTSTAMP:20260423T074217Z
URL:http://www.connect.amchamthailand.com/events/details/joint-trade-investment-and-digital-economy-committee-planning-meeting-with-ustda-384
END:VEVENT

END:VCALENDAR
