BEGIN:VCALENDAR
VERSION:2.0
PRODID:-//ChamberMaster//Event Calendar 2.0//EN
METHOD:PUBLISH
X-PUBLISHED-TTL:P3D
REFRESH-INTERVAL:P3D
CALSCALE:GREGORIAN
BEGIN:VEVENT
DTSTART:20211116T040000Z
DTEND:20211116T050000Z
X-MICROSOFT-CDO-ALLDAYEVENT:FALSE
SUMMARY:Joint YPC & HR Committee: Speed Networking
DESCRIPTION:Let's take a break and get to know each! This recent circle of life has become disconnected and lacking visual smiles. So we are here to create an outlet.\n\n \n\nSpeed Networking! An intimate (but not too intimate) way of connecting to others in a time where we mostly only connect with our food delivery guys/gals. Think about it. When was the last time you had small talk? Was in it a phone call with colleagues? How many times have you asked how they are over the last couple of months? How many times have they responded with okay/good followed by silence or conversation on the Covid situation? Well\, we want to get to know you\, and we want to know what is below the surface and topic of this pandemic.\n\n \n\nYou get a few minutes with randomly selected partners to establish authenticity\, connection\, and a taste of who you are as a person. Let's make it count and bring back coffee breaks and real conversations to our lives. Life is short\, your time is precious\, and that is the only thing you need to spend to attend this great event.
X-ALT-DESC;FMTTYPE=text/html:Let&rsquo\;s take a break and get to know each! This recent circle of life has become disconnected and lacking visual smiles. So we are here to create an outlet.<br />\n&nbsp\;<br />\nSpeed Networking! An intimate (but not too intimate) way of connecting to others in a time where we mostly only connect with our food delivery guys/gals. Think about it. When was the last time you had small talk? Was in it a phone call with colleagues? How many times have you asked how they are over the last couple of months? How many times have they responded with okay/good followed by silence or conversation on the Covid situation? Well\, we want to get to know you\, and we want to know what is below the surface and topic of this pandemic.<br />\n&nbsp\;<br />\nYou get a few minutes with randomly selected partners to establish authenticity\, connection\, and a taste of who you are as a person. Let&rsquo\;s make it count and bring back coffee breaks and real conversations to our lives. Life is short\, your time is precious\, and that is the only thing you need to spend to attend this great event.
LOCATION:Video conference
UID:e.3314.2011
SEQUENCE:3
DTSTAMP:20260421T121835Z
URL:http://www.connect.amchamthailand.com/events/details/joint-ypc-hr-committee-speed-networking-2011
END:VEVENT

END:VCALENDAR
