BEGIN:VCALENDAR
VERSION:2.0
PRODID:-//ChamberMaster//Event Calendar 2.0//EN
METHOD:PUBLISH
X-PUBLISHED-TTL:P3D
REFRESH-INTERVAL:P3D
CALSCALE:GREGORIAN
BEGIN:VEVENT
DTSTART:20210825T020000Z
DTEND:20210825T030000Z
X-MICROSOFT-CDO-ALLDAYEVENT:FALSE
SUMMARY:Legal Committee: A Look at Biden’s Trade Policy and its Impact for U.S. and Thailand Trade
DESCRIPTION:Will trade tensions with China intensify? Will the United States join the CPTPP? Who has Biden appointed to carry out his policies and how will congress work with the new administration?\n\n\n\nAMCHAM Legal Committee is honored to have Nasim Fussell\, Esq. from the Washington DC office of Holland & Knight and Partner with its International Trade and Policy Practice decipher the Biden administration's trade policy and its potential  impact for Thailand.  Prior to joining Holland & Knight\, Ms. Fussell was the Chief International Trade Counsel for the U.S. Senate Committee on Finance where she led the Senate negotiations with the Trump Administration and U.S. House of Representatives on the United States-Mexico-Canada Agreement (USMCA). Ms. Fussell also worked on negotiations with Japan\, China\, the United Kingdom\, Kenya\, the European Union\, India\, Brazil\, and the World Trade Organization (WTO).  Before joining the Senate Finance Committee she was Director of Government and Regulatory Affairs at Pitney Bowes.  She has also served as trade counsel to the House Committee on Ways and Means and customs counsel for General Motors.\n\n\n\nPlease join the Legal Committee for this important video conference moderated by Committee Leader Christopher Knight live on Wednesday\, August 25 at 9 am.
X-ALT-DESC;FMTTYPE=text/html:Will trade tensions with China intensify? Will the United States join the CPTPP? Who has Biden appointed to carry out his policies and how will congress work with the new administration?<br />\n<br />\nAMCHAM Legal Committee is honored to have <a href="https://www.linkedin.com/in/nasimfussell/">Nasim Fussell</a>\, Esq. from the Washington DC office of Holland &amp\; Knight and Partner with its International Trade and Policy Practice decipher the Biden administration&rsquo\;s trade policy and its potential &nbsp\;impact for Thailand. &nbsp\;Prior to joining Holland &amp\; Knight\, Ms. Fussell was the Chief International Trade Counsel for the U.S. Senate Committee on Finance where she led the Senate negotiations with the Trump Administration and U.S. House of Representatives on the United States-Mexico-Canada Agreement (USMCA). Ms. Fussell also worked on negotiations with Japan\, China\, the United Kingdom\, Kenya\, the European Union\, India\, Brazil\, and the World Trade Organization (WTO).&nbsp\; Before joining the Senate Finance Committee she was Director of Government and Regulatory Affairs at Pitney Bowes.&nbsp\; She has also served as trade counsel to the House Committee on Ways and Means and customs counsel for General Motors.<br />\n<br />\nPlease join the Legal Committee for this important video conference moderated by Committee Leader Christopher Knight live on Wednesday\, August 25 at 9 am.
LOCATION:Online Webinar
UID:e.3314.1956
SEQUENCE:3
DTSTAMP:20260421T194211Z
URL:http://www.connect.amchamthailand.com/events/details/legal-committee-a-look-at-biden-s-trade-policy-and-its-impact-for-u-s-and-thailand-trade-1956
END:VEVENT

END:VCALENDAR
