BEGIN:VCALENDAR
VERSION:2.0
PRODID:-//ChamberMaster//Event Calendar 2.0//EN
METHOD:PUBLISH
X-PUBLISHED-TTL:P3D
REFRESH-INTERVAL:P3D
CALSCALE:GREGORIAN
BEGIN:VEVENT
DTSTART:20190125T050000Z
DTEND:20190125T063000Z
X-MICROSOFT-CDO-ALLDAYEVENT:FALSE
SUMMARY:Legal Committee: Foreign Corrupt Practices Act - The Role of Forensic Accounting in FCPA Investigations
DESCRIPTION:Compliance by the Numbers \n\nThe U.S. Foreign Corrupt Practices Act (FCPA) has a broad sweep\, catching in its net not only U.S. nationals and companies\, but many non-U.S. companies as well. Accounting plays a critical role in investigations concerning possible FPCA violations and general compliance.\n\nCome join us to find out how forensic accounting can help your company ensure compliance with the FPCA. The AMCHAM legal committee is pleased to welcome guest speakers Bhurima Tienwuttinun and Daphne Wong\, Directors at MDD Forensic Accountants Thailand\, a firm exclusively focused on forensic accounting. Douglas Mancill\, Senior Counsel at PriceSanond\, will provide an overview of the FCPA and enforcement trends\, after which Ms. Tienwuttinun and Ms. Wong will drill down into the detailed role of forensic accounting in FCPA investigations.
X-ALT-DESC;FMTTYPE=text/html:<p><strong>Compliance by the Numbers&nbsp\;</strong></p>\n\n<p>The U.S. Foreign Corrupt Practices Act (FCPA) has a broad sweep\, catching in its net not only U.S. nationals and companies\, but many non-U.S. companies as well. Accounting plays a critical role in investigations concerning possible FPCA violations and general compliance.</p>\n\n<p>Come join us to find out how forensic accounting can help your company ensure compliance with the FPCA.&nbsp\;The AMCHAM legal committee is pleased to welcome guest speakers&nbsp\;<a href="https://mdd.com/find-a-forensic-accountant/bhurima-tienwuttinun/" id="LPlnk353622" previewremoved="true">Bhurima Tienwuttinun</a>&nbsp\;and&nbsp\;<a href="https://mdd.com/find-a-forensic-accountant/daphne-wong/" id="LPlnk570472" previewremoved="true">Daphne Wong</a>\, Directors&nbsp\;at MDD Forensic Accountants Thailand\, a firm exclusively focused on forensic accounting.&nbsp\;<a href="http://www.pricesanond.com/senior-counsel/douglas-mancill.php" id="LPlnk560913" previewremoved="true">Douglas Mancill</a>\, Senior Counsel at PriceSanond\, will provide an overview of the FCPA and enforcement trends\, after&nbsp\;which Ms. Tienwuttinun and Ms. Wong will drill down into the detailed role of forensic accounting in FCPA investigations.</p>\n
LOCATION:AMCHAM Office\, Citi Boardroom (7th floor) Nearest BTS: Ploenchit
UID:e.3314.86
SEQUENCE:3
DTSTAMP:20260424T000906Z
URL:http://www.connect.amchamthailand.com/events/details/legal-committee-foreign-corrupt-practices-act-the-role-of-forensic-accounting-in-fcpa-investigations-86
END:VEVENT

END:VCALENDAR
