BEGIN:VCALENDAR
VERSION:2.0
PRODID:-//ChamberMaster//Event Calendar 2.0//EN
METHOD:PUBLISH
X-PUBLISHED-TTL:P3D
REFRESH-INTERVAL:P3D
CALSCALE:GREGORIAN
BEGIN:VEVENT
DTSTART:20211102T030000Z
DTEND:20211102T040000Z
X-MICROSOFT-CDO-ALLDAYEVENT:FALSE
SUMMARY:Legal Committee: Franchising Law in Thailand
DESCRIPTION:When someone mentions franchises\, fast food burger joints are probably the first thing that comes to mind. But franchising can and is used for many other businesses. Franchising relationships include fitness clubs\, food delivery services\, cleaning services\, property management services\, financial and bookkeeping services\, private schools\, assisted living facilities\, management consulting services and medical service providers. Almost any service or product distribution network can be franchised. Franchising can be used to test foreign markets and address restrictions such as the Foreign Business Act on foreign producers and wholesalers.\n\n\n\nThailand does not have a specific Franchising Act\, but regulations under the new version of the Trade Competition Act provide very detailed rules governing the franchising relationships. And those rules are enforced.\n\n\n\nSpeakers:\n\nNat Uawithya\, Managing Partner\, Legal Concepts.\n\nNat has 12 years' experience including experience working with well-known international law firms and advisory firms. He advises both Thai and international clients on various matters including business transfers\, company formation\, restructuring acquiring foreign business license and certificates\, and logistics. He advises on franchising relationships and disputes. Nat is graduate of Assumption University with an L.L.B.\n\n\n\n Douglas Mancill\, Managing Partner\, Legal Analytics and Advocacy (Thailand) Ltd.\n\nDouglas has over 30 years' experience with large US and international law firms\, including over 20 years' experience in Thailand. He is a dual Thai/U.S. national. He has drafted and "localized" over 100 franchising agreements. He has arbitrated and litigated scores of franchise disputes\, including taking several cases to trial in the U.S.  Douglas has been licensed in the U.S. since 1984 and holds a Juris Doctorate from the University of California at Berkeley.
X-ALT-DESC;FMTTYPE=text/html:When someone mentions franchises\, fast food burger joints are probably the first thing that comes to mind.&nbsp\;But franchising can and is used for many other businesses. Franchising relationships include fitness clubs\, food delivery services\, cleaning services\, property management services\, financial and bookkeeping services\, private schools\, assisted living facilities\, management consulting services and medical service providers. Almost any service or product distribution network can be franchised. Franchising can be used to test foreign markets and address restrictions such as the Foreign Business Act on foreign producers and wholesalers.<br />\n<br />\nThailand does not have a specific Franchising Act\, but regulations under the new version of the Trade Competition Act provide very detailed rules governing the franchising relationships. And those rules are enforced.<br />\n<br />\n<strong>Speakers:</strong><br />\n<strong><a href="https://www.linkedin.com/in/nat-uawithya-b09212112/">Nat Uawithya</a></strong>\, Managing Partner\, Legal Concepts.<br />\nNat has 12 years&rsquo\; experience including experience working with well-known international law firms and advisory firms. He&nbsp\;advises both Thai and international clients on various matters including business transfers\, company formation\, restructuring acquiring foreign business license and certificates\, and logistics. He advises on franchising relationships and disputes. Nat is graduate of Assumption University with an L.L.B.<br />\n<br />\n<strong>&nbsp\;<a href="https://www.linkedin.com/in/douglas-mancill-62988bb/">Douglas Mancill</a>\, </strong>Managing Partner\,&nbsp\;Legal Analytics and Advocacy (Thailand) Ltd.<br />\nDouglas has over 30 years&rsquo\; experience with large US and international law firms\, including over 20 years&rsquo\; experience in Thailand. He is a dual Thai/U.S. national. He has drafted and &ldquo\;localized&rdquo\; over 100 franchising agreements. He has arbitrated and litigated scores of franchise disputes\, including taking several cases to trial in the U.S.&nbsp\; Douglas has been licensed in the U.S. since 1984 and holds a Juris Doctorate from the University of California at Berkeley.<br />\n&nbsp\;
LOCATION:Online Webinar
UID:e.3314.2008
SEQUENCE:3
DTSTAMP:20260421T124139Z
URL:http://www.connect.amchamthailand.com/events/details/legal-committee-franchising-law-in-thailand-2008
END:VEVENT

END:VCALENDAR
