BEGIN:VCALENDAR
VERSION:2.0
PRODID:-//ChamberMaster//Event Calendar 2.0//EN
METHOD:PUBLISH
X-PUBLISHED-TTL:P3D
REFRESH-INTERVAL:P3D
CALSCALE:GREGORIAN
BEGIN:VEVENT
DTSTART:20220511T030000Z
DTEND:20220511T040000Z
X-MICROSOFT-CDO-ALLDAYEVENT:FALSE
SUMMARY:Legal Committee Planning Meeting 2022
DESCRIPTION:You are cordially invited and encouraged to attend the AMCHAM's Legal Committee's planning meeting for the Half Year of 2022. Your input is wanted and needed. \n\n\n\nThe Legal Committee leadership wants to know what sort of programming you would like to see from the committee in 2022. With that goal in mind\, the committee leadership both encourages you to participate in the planning committee and submit ideas for programs and events to the committee leadership via email at tk@amchamthailand.com\n\n\n\nIf you plan on attending\, please be sure to register online.
X-ALT-DESC;FMTTYPE=text/html:You are cordially invited and encouraged to attend the AMCHAM&#39\;s Legal Committee&#39\;s planning meeting for the Half Year of 2022. Your input is wanted and needed.&nbsp\;<br />\n<br />\nThe Legal Committee leadership wants to know what sort of programming you would like to see from the committee in 2022. With that goal in mind\, the committee leadership both encourages you to participate in the planning committee and submit ideas for programs and events to the committee leadership via email at tk@amchamthailand.com<br />\n<br />\nIf you plan on attending\, please be sure to register online.
LOCATION:Video conference
UID:e.3314.2199
SEQUENCE:3
DTSTAMP:20260421T012908Z
URL:http://www.connect.amchamthailand.com/events/details/legal-committee-planning-meeting-2022-2199
END:VEVENT

END:VCALENDAR
