BEGIN:VCALENDAR
VERSION:2.0
PRODID:-//ChamberMaster//Event Calendar 2.0//EN
METHOD:PUBLISH
X-PUBLISHED-TTL:P3D
REFRESH-INTERVAL:P3D
CALSCALE:GREGORIAN
BEGIN:VEVENT
DTSTART:20230116T060000Z
DTEND:20230116T070000Z
X-MICROSOFT-CDO-ALLDAYEVENT:FALSE
SUMMARY:Legal Committee Planning Meeting 2023: Hybrid Meeting
DESCRIPTION:You are cordially invited and encouraged to attend the AMCHAM's Legal Committee's planning meeting for the Year 2023. Your input is wanted and needed. \n\n\n\nThe Legal Committee leadership wants to know what sort of programming you would like to see from the committee in 2023. With that goal in mind\, the committee leadership both encourages you to participate in the planning committee and submit ideas for programs and events to the committee leadership via email at bell@amchamthailand.com\n\n\n\nIf you plan on attending\, please be sure to register.
X-ALT-DESC;FMTTYPE=text/html:You are cordially invited and encouraged to attend the AMCHAM&#39\;s Legal Committee&#39\;s planning meeting for the Year 2023. Your input is wanted and needed.&nbsp\;<br />\n<br />\nThe Legal Committee leadership wants to know what sort of programming you would like to see from the committee in 2023. With that goal in mind\, the committee leadership both encourages you to participate in the planning committee and submit ideas for programs and events to the committee leadership via email at bell@amchamthailand.com<br />\n<br />\nIf you plan on attending\, please be sure to register.
LOCATION:Online via Video Conference or In-person at Boardroom\, True Digital Park\, Phoenix Building\, Floor 10 BTS: Punnawithi (direct exit to True Digital Park) For directions to True Digital Park\, click here.
UID:e.3314.2472
SEQUENCE:3
DTSTAMP:20260420T124154Z
URL:http://www.connect.amchamthailand.com/events/details/legal-committee-planning-meeting-2023-hybrid-meeting-2472
END:VEVENT

END:VCALENDAR
