BEGIN:VCALENDAR
VERSION:2.0
PRODID:-//ChamberMaster//Event Calendar 2.0//EN
METHOD:PUBLISH
X-PUBLISHED-TTL:P3D
REFRESH-INTERVAL:P3D
CALSCALE:GREGORIAN
BEGIN:VEVENT
DTSTART:20191219T013000Z
DTEND:20191219T030000Z
X-MICROSOFT-CDO-ALLDAYEVENT:FALSE
SUMMARY:Legal Committee: Planning Meeting
DESCRIPTION:Please join the AMCHAM legal committee for a planning meeting to review 2019 accomplishments and set targets for 2020 activities and events.
X-ALT-DESC;FMTTYPE=text/html:Please join the AMCHAM legal committee for a planning meeting to review 2019 accomplishments and set targets for 2020 activities and events.<br />\n&nbsp\;
LOCATION:AMCHAM Office\, Citi Boardroom Nearest BTS: Ploenchit
UID:e.3314.413
SEQUENCE:3
DTSTAMP:20260423T054857Z
URL:http://www.connect.amchamthailand.com/events/details/legal-committee-planning-meeting-413
END:VEVENT

END:VCALENDAR
