BEGIN:VCALENDAR
VERSION:2.0
PRODID:-//ChamberMaster//Event Calendar 2.0//EN
METHOD:PUBLISH
X-PUBLISHED-TTL:P3D
REFRESH-INTERVAL:P3D
CALSCALE:GREGORIAN
BEGIN:VEVENT
DTSTART:20190814T013000Z
DTEND:20190814T033000Z
X-MICROSOFT-CDO-ALLDAYEVENT:FALSE
SUMMARY:Legal Committee: Preparation Meeting for Consultation with the Department of Intellectual Property.
DESCRIPTION:In preparation for the AMCHAM consultative meeting with the Department of Intellectual Property\, the Legal Committee will have a preparation meeting on August 14th at 8:30am at the AMCHAM office to align and coordinate our message.  Anyone that plans to attend the upcoming meeting at the Department of Intellectual Property on 19th August (13:30-15:30) must attend this preparation meeting so that we effectively manage time ensuring that all members are afforded an opportunity to speak. \n\n\n\nThis meeting is limited to AMCHAM members only. Members are requested to register only one representative per company.
X-ALT-DESC;FMTTYPE=text/html:In preparation for the AMCHAM consultative meeting with the Department of Intellectual Property\, the Legal Committee will have a preparation meeting on August 14th at 8:30am at the AMCHAM office to align and coordinate our message.&nbsp\; Anyone that plans to attend the upcoming meeting at the Department of Intellectual Property on 19th August (13:30-15:30) must attend this preparation meeting so that we effectively manage time ensuring that all members are afforded an opportunity to speak.&nbsp\;<br />\n<br />\nThis meeting is limited to AMCHAM members only. Members are requested to register only one representative per company.&nbsp\;
LOCATION:AMCHAM Office\, Citi Boardroom (GPF Witthayu\, 7th Floor) Nearest BTS: Ploenchit
UID:e.3314.361
SEQUENCE:3
DTSTAMP:20260423T144548Z
URL:http://www.connect.amchamthailand.com/events/details/legal-committee-preparation-meeting-for-consultation-with-the-department-of-intellectual-property-361
END:VEVENT

END:VCALENDAR
