BEGIN:VCALENDAR
VERSION:2.0
PRODID:-//ChamberMaster//Event Calendar 2.0//EN
METHOD:PUBLISH
X-PUBLISHED-TTL:P3D
REFRESH-INTERVAL:P3D
CALSCALE:GREGORIAN
BEGIN:VEVENT
DTSTART:20200410T030000Z
DTEND:20200410T034000Z
X-MICROSOFT-CDO-ALLDAYEVENT:FALSE
SUMMARY:Legal Committee Video Conference “Contracts\, Covid\, and Contentious Cases: How to enforce (or excuse) performance in Covid-19 Crisis”.
DESCRIPTION:Covid-19 has upended many business operations\, requiring business leaders to re-examine existing contractual obligations. David Beckstead\, Counsel at Chandler MHM\, will present on issues of contract and performance-related issues in this rapidly evolving environment. The presentation will address key contract clauses which companies should consider when assessing legal risks in response to the covid-19 pandemic. The discussion will focus on the applicability of force majeure\, timelines for performance\, as well as risks associated with termination.\n\n\n\nOur speaker:\n\nDavid Beckstead is a Counsel at Chandler MHM Limited (CMHM) and a member of the firm's Energy & Infrastructure Practice Group. He has vast experience representing lenders and project sponsors in the oil & gas\, mining\, renewable energy\, and manufacturing sectors. David has also advised on numerous complex commercial transactions such as cross-border joint ventures\, M&As\, loan portfolio acquisitions\, greenfield infrastructure projects.
X-ALT-DESC;FMTTYPE=text/html:Covid-19 has upended many business operations\, requiring business leaders to re-examine existing contractual obligations. David Beckstead\, Counsel at Chandler MHM\, will present on issues of contract and performance-related issues in this rapidly evolving environment. The presentation will address key contract clauses which companies should consider when assessing legal risks in response to the covid-19 pandemic. The discussion will focus on the applicability of force majeure\, timelines for performance\, as well as risks associated with termination.<br>\n<br>\n<b>Our speaker:</b><br>\n<a href="https://chandlermhm.com/people/staff/17634.html">David Beckstead</a>&nbsp\;is a Counsel at Chandler MHM Limited (CMHM) and a member of the firm's Energy &amp\; Infrastructure Practice Group.&nbsp\;He has vast experience representing lenders and project sponsors in the oil &amp\; gas\, mining\, renewable energy\, and manufacturing sectors. David has also advised on numerous complex commercial transactions such as cross-border joint ventures\, M&amp\;As\, loan portfolio acquisitions\, greenfield infrastructure projects.&nbsp\;
LOCATION:Video Conference
UID:e.3314.1585
SEQUENCE:3
DTSTAMP:20260422T222531Z
URL:http://www.connect.amchamthailand.com/events/details/legal-committee-video-conference-contracts-covid-and-contentious-cases-how-to-enforce-or-excuse-performance-in-covid-19-crisis-1585
END:VEVENT

END:VCALENDAR
