BEGIN:VCALENDAR
VERSION:2.0
PRODID:-//ChamberMaster//Event Calendar 2.0//EN
METHOD:PUBLISH
X-PUBLISHED-TTL:P3D
REFRESH-INTERVAL:P3D
CALSCALE:GREGORIAN
BEGIN:VEVENT
DTSTART:20200408T070000Z
DTEND:20200408T074000Z
X-MICROSOFT-CDO-ALLDAYEVENT:FALSE
SUMMARY:Legal Committee Video Conference: "Covid-19 Corporate & Tax Relief Measures for Thai Companies"
DESCRIPTION:This presentation will address the upcoming statutory duties for companies to hold annual general meetings of the shareholders and to prepare tax filings with the Revenue Department of Thailand. Also\, the presentation will focus on the implications of the special relief measures which have been recently introduced by the Royal Thai government to provide alternative solutions to such compliance in light of the disruption caused by the covid-19 crisis.\n\n\n\nOur Speaker:\n\nKobkit Thienpreecha\, a partner and director of Tilleke & Gibbins' corporate and commercial group. Kobkit excels at designing targeted\, legitimate\, and practical solutions for foreign business start-up structures. He also specializes in offering diverse legal support services at the highest standard\, including company incorporation\, joint ventures\, M&A\, investment promotion\, Foreign Business License\, capital markets and IPOs\, specific business permits and licenses\, immigration\, regulatory compliance\, and all foreign clients' affairs.
X-ALT-DESC;FMTTYPE=text/html:This presentation will address the upcoming statutory duties for companies to hold annual general meetings of the shareholders and to prepare tax filings with the Revenue Department of Thailand. Also\, the presentation will focus on the implications of the special relief measures which have been recently introduced by the Royal Thai government to provide alternative solutions to such compliance in light of the disruption caused by the covid-19 crisis.<br />\n<br />\n<strong>Our Speaker:</strong><br />\n<a href="https://www.tilleke.com/professionals/kobkit">Kobkit Thienpreecha</a>\, a partner and director of Tilleke &amp\; Gibbins&#39\; corporate and commercial group. Kobkit excels at designing targeted\, legitimate\, and practical solutions for foreign business start-up structures. He&nbsp\;also specializes in offering diverse legal support services at the highest standard\, including company incorporation\, joint ventures\, M&amp\;A\, investment promotion\, Foreign Business License\, capital markets and IPOs\, specific business permits and licenses\, immigration\, regulatory compliance\, and all foreign clients&#39\; affairs.
LOCATION:Video Conference
UID:e.3314.1584
SEQUENCE:3
DTSTAMP:20260422T223049Z
URL:http://www.connect.amchamthailand.com/events/details/legal-committee-video-conference-covid-19-corporate-tax-relief-measures-for-thai-companies-1584
END:VEVENT

END:VCALENDAR
