BEGIN:VCALENDAR
VERSION:2.0
PRODID:-//ChamberMaster//Event Calendar 2.0//EN
METHOD:PUBLISH
X-PUBLISHED-TTL:P3D
REFRESH-INTERVAL:P3D
CALSCALE:GREGORIAN
BEGIN:VEVENT
DTSTART:20200416T070000Z
DTEND:20200416T074000Z
X-MICROSOFT-CDO-ALLDAYEVENT:FALSE
SUMMARY:Legal Committee Video Conference: Covid 19 Outbreak – Practical Guidelines for Business Operators for HR management
DESCRIPTION:The Legal Committee welcomes you to learn about the wide-ranging issues currently impacting employers and how best to address challenges such as working hours\, remote working\, health and safety obligations\, leave and pay requirements and data privacy considerations. Komson Suntheeraporn\, of Counsel\, DLA Piper will give Thailand legal updates on the issues and challenges such disruptions can cause for employers and how to navigate these obligations while trying to maintain business continuity.\n\n\n\nOur Speaker:\n\nKomson Suntheeraporn is an Of Counsel in the Litigation and Regulatory team\, based in DLA Piper's Bangkok office. Komson is experienced in all aspects of commercial dispute resolution\, banking litigation\, contentious employment\, consumer protection\, trade competition\, restructuring and insolvency. He has assisted clients in complex disputed matters in arbitration and court proceedings.
X-ALT-DESC;FMTTYPE=text/html:The Legal Committee welcomes you to learn about the wide-ranging issues currently impacting employers and how best to address challenges such as working hours\, remote working\, health and safety obligations\, leave and pay requirements and data privacy considerations. Komson Suntheeraporn\, of Counsel\, DLA Piper will give Thailand legal updates on the issues and challenges such disruptions can cause for employers and how to navigate these obligations while trying to maintain business continuity.<br />\n<br />\n<strong>Our Speaker:</strong><br />\n<a href="https://www.dlapiper.com/en/thailand/people/s/suntheeraporn-komson/?tab=credentials">Komson Suntheeraporn</a> is an Of Counsel in the Litigation and Regulatory team\, based in DLA Piper&#39\;s Bangkok office. Komson is experienced in all aspects of commercial dispute resolution\, banking litigation\, contentious employment\, consumer protection\, trade competition\, restructuring and insolvency. He has assisted clients in complex disputed matters in arbitration and court proceedings.
LOCATION:Video Conference
UID:e.3314.1590
SEQUENCE:3
DTSTAMP:20260422T222517Z
URL:http://www.connect.amchamthailand.com/events/details/legal-committee-video-conference-covid-19-outbreak-practical-guidelines-for-business-operators-for-hr-management-1590
END:VEVENT

END:VCALENDAR
