BEGIN:VCALENDAR
VERSION:2.0
PRODID:-//ChamberMaster//Event Calendar 2.0//EN
METHOD:PUBLISH
X-PUBLISHED-TTL:P3D
REFRESH-INTERVAL:P3D
CALSCALE:GREGORIAN
BEGIN:VEVENT
DTSTART:20200429T070000Z
DTEND:20200429T080000Z
X-MICROSOFT-CDO-ALLDAYEVENT:FALSE
SUMMARY:Legal Committee Video Conference: International Trade & Covid-19: Supply Chain Risks\, Impacts and Opportunities
DESCRIPTION:How is the covid-19 crisis playing out in the international trade arena? Are some industries at more risk (or better positioned) than others? Will the covid-19 crisis further exacerbate the trade war? Can there be opportunities? The Legal Committee welcomes Mr. Benjamin Kostrzewa\, a Washington DC international trade lawyer with Hogan Lovells currently practicing in Hong Kong\, to discuss how the COVID-19 crisis impacts supply chains and how countries are turning to use trade tools to protect their interests.   \n\n \n\nOur Speaker:\n\nBenjamin Kostrzewa is a leading trade lawyer in Asia Pacific.  Prior to joining Hogan Lovells\, Benjamin served as assistant general counsel at the Office of the U.S. Trade Representative (USTR)\, where he handled World Trade Organization (WTO) disputes and free trade agreement (FTA) negotiations.
X-ALT-DESC;FMTTYPE=text/html:How is the covid-19 crisis playing out in the international trade arena? Are some industries at more risk (or better positioned) than others? Will the covid-19 crisis further exacerbate the trade war? Can there be opportunities? The Legal Committee welcomes Mr. Benjamin Kostrzewa\, a Washington DC international trade lawyer with Hogan Lovells currently practicing in Hong Kong\, to discuss how the COVID-19 crisis impacts supply chains and how countries are turning to use trade tools to protect their interests.&nbsp\; &nbsp\;<br />\n&nbsp\;<br />\n<strong>Our Speaker:</strong><br />\n<a href="https://www.hoganlovells.com/en/kostrzewa-benjamin">Benjamin Kostrzewa</a> is a leading trade lawyer in Asia Pacific.&nbsp\; Prior to joining Hogan Lovells\, Benjamin served as assistant general counsel at the Office of the U.S. Trade Representative (USTR)\, where he handled World Trade Organization (WTO) disputes and free trade agreement (FTA) negotiations.
LOCATION:Video Conference
UID:e.3314.1592
SEQUENCE:3
DTSTAMP:20260422T222850Z
URL:http://www.connect.amchamthailand.com/events/details/legal-committee-video-conference-international-trade-covid-19-supply-chain-risks-impacts-and-opportunities-1592
END:VEVENT

END:VCALENDAR
