BEGIN:VCALENDAR
VERSION:2.0
PRODID:-//ChamberMaster//Event Calendar 2.0//EN
METHOD:PUBLISH
X-PUBLISHED-TTL:P3D
REFRESH-INTERVAL:P3D
CALSCALE:GREGORIAN
BEGIN:VEVENT
DTSTART:20200616T020000Z
DTEND:20200616T030000Z
X-MICROSOFT-CDO-ALLDAYEVENT:FALSE
SUMMARY:Legal Committee Video Conference: Live from Washington DC and New York! - What’s the View from Washington DC and What is Next?
DESCRIPTION:The offices of Holland & Knight have assembled thought leaders from their Washington\, DC and New York offices all from different practice areas to share their insight\, and discuss key issues facing international companies and AMCHAM members during the covid-19 pandemic. \n\n \n\nTopics will include what businesses can expect moving forward\, U.S. covid-19-related legislation that has passed\, global trade issues that businesses need to be aware of\, and what's in store for the 2020 elections and potential impacts on businesses internationally. This is must-attend event which will provide AMCHAM members an extraordinary opportunity to know what is really happening in Washington DC.  \n\n\n\nOur speakers:\n\n\n	Christopher Armstrong\, Partner\, Holland & Knight LLP's Public Policy & Regulation Group. His practice focuses on representing a broad range of companies\, nonprofit entities and individuals through congressional investigations involving significant legal\, regulatory\, and political risk. Mr. Armstrong also provides counsel and lobbying services regarding tax\, healthcare\, and international trade matters.\n	Kara Ward\, Partner\, Holland & Knight LLP's Public Policy & Regulation Group. Ms. Ward focuses her practice on financial services and the housing finance market. She has experience with issues related to housing finance reform\, servicing\, insurance\, consumer financial services\, blockchain and community economic development.\n	Ronald Oleynik\, Partner\, Holland & Knight LLP. His experience includes a broad range of industrial security\, customs\, export control\, trade policy and public & private and international trade matters.\n	Scott Mason\, Senior Policy Advisor\, Holland & Knight LLP. His practice focuses on the intersection between Capitol Hill and the Trump Administration on major policy initiatives\, including tax reform\, healthcare reform\, immigration\, infrastructure initiatives and other key priorities.\n	Richard Smith\, Partner\, Holland & Knight LLP. His practice focuses on corporate transactions\, mergers\, and acquisitions (M&A)\, private equity and capital markets.
X-ALT-DESC;FMTTYPE=text/html:<div>The offices of Holland &amp\; Knight have assembled thought leaders from their Washington\, DC and New York offices all from different practice areas to share their insight\, and discuss key issues facing international companies and AMCHAM&nbsp\;members during the covid-19 pandemic.&nbsp\;<br />\n&nbsp\;</div>\n\n<div>Topics will include what businesses can expect moving forward\, U.S. covid-19-related legislation that has passed\, global trade issues that businesses need to be aware of\, and what&rsquo\;s in store for the 2020 elections and potential impacts on businesses internationally.&nbsp\;This is must-attend event which&nbsp\;will provide AMCHAM&nbsp\;members an extraordinary opportunity to know what is really happening in Washington DC.&nbsp\;&nbsp\;<br />\n<br />\n<strong>Our speakers:</strong></div>\n\n<ul>\n	<li><a href="https://www.linkedin.com/in/carmstrong07/">Christopher Armstrong</a>\, Partner\, Holland &amp\; Knight LLP&#39\;s Public Policy &amp\; Regulation Group. His practice focuses on representing a broad range of companies\, nonprofit entities and individuals through congressional investigations involving significant legal\, regulatory\, and political risk. Mr. Armstrong also provides counsel and lobbying services regarding tax\, healthcare\, and international trade matters.</li>\n	<li><a href="https://www.linkedin.com/in/kara-ward-5a82585/">Kara Ward</a>\, Partner\, Holland &amp\; Knight LLP&#39\;s Public Policy &amp\; Regulation Group. Ms. Ward focuses her practice on financial services and the housing finance market. She has experience with issues related to housing finance reform\, servicing\, insurance\, consumer financial services\, blockchain and community economic development.</li>\n	<li><a href="https://www.linkedin.com/in/ron-oleynik-b139b06/">Ronald Oleynik</a>\, Partner\, Holland &amp\; Knight LLP.&nbsp\;His experience includes a broad range of industrial security\, customs\, export control\, trade policy and public &amp\; private and international trade matters.</li>\n	<li><a href="https://www.linkedin.com/in/scott-mason-4824714/">Scott Mason</a>\, Senior Policy Advisor\, Holland &amp\; Knight LLP. His practice focuses on the intersection between Capitol Hill and the Trump Administration on major policy initiatives\, including tax reform\, healthcare reform\, immigration\, infrastructure initiatives and other key priorities.</li>\n	<li><a href="https://www.linkedin.com/in/richard-smith-40b74321/">Richard Smith</a>\, Partner\, Holland &amp\; Knight LLP. His practice focuses on corporate transactions\, mergers\, and acquisitions (M&amp\;A)\, private equity and capital markets.</li>\n</ul>\n
LOCATION:Video Conference
UID:e.3314.1625
SEQUENCE:3
DTSTAMP:20260422T183532Z
URL:http://www.connect.amchamthailand.com/events/details/legal-committee-video-conference-live-from-washington-dc-and-new-york-what-s-the-view-from-washington-dc-and-what-is-next-1625
END:VEVENT

END:VCALENDAR
