BEGIN:VCALENDAR
VERSION:2.0
PRODID:-//ChamberMaster//Event Calendar 2.0//EN
METHOD:PUBLISH
X-PUBLISHED-TTL:P3D
REFRESH-INTERVAL:P3D
CALSCALE:GREGORIAN
BEGIN:VEVENT
DTSTART:20200929T013000Z
DTEND:20200929T023000Z
X-MICROSOFT-CDO-ALLDAYEVENT:FALSE
SUMMARY:Legal Committee: What’s New in U.S. & Thai Anti-Corruption Laws - Developments in Enforcement
DESCRIPTION:In July 0f 2020\, the U.S. Department of Justice (DOJ) and the U.S. Securities and Exchange Commission (SEC)\, released the second edition of its resource guide on the U.S. Foreign Corrupt Practices Act (FCPA). This is only the second resource guide issued by the DOJ and the SEC on the FCPA and updates the first resource guide issued eight years ago\, in 2012.  \n\nUnderstanding the FCPA and Thai anti-corruption laws is critical to everyone doing business in Thailand.  Financial penalties for FCPA violations have increased substantially\, with an estimated 2.9 billion in fines imposed for violations that involved Asia Pacific\, including Thailand. And a DOJ official announced in 2019 that the DOJ will focus on individuals responsible for FCPA violations\, stating "the most effective deterrent to corporate criminal conduct is identifying people who commit crimes and sending them to prison"\n\nStay current on this challenging subject with our panel of experts on the FCPA and Thai anti-corruption laws. The panel will include a senior compliance officer from Chevron\, Sangita Patel\, who will join from the U.S. and provide an in-house perspective on the compliance challenges presented by the FCPA\; Douglas Mancill\, who has worked with U.S.\, European and Japanese multinationals on the FCPA and other anti-corruption laws for over thirty years\; Shin Honma\, who leads the Risk Consulting and Forensic Services practice for PcW Thailand\; and John Frangos\, a partner at Tilleke who co-leads the firm's compliance and investigations practice.\n\n \n\nAbout the Speakers:\n\n\n	Sangita Patel\, Deputy Chief Compliance Officer\, Chevron. Ms. Patel has been with Chevron since 2005 and has helped develop and enhance the compliance program at Chevron. She is the subject matter expert for Chevron on global anti-corruption\, conflict of interest\, trade sanctions/money laundering\, import/export and antiboycott laws and regulations. \n	Douglas Mancill\, Partner\, Mulvana de Angeli & Associates. He is a dual national (Thai and the U.S.) California qualified lawyer who handled his first FCPA matter before he was seconded to Thailand in 1998.  He has decades of on the ground experience in Thailand conducting compliance reviews and providing advice to U.S.\, European and Japanese multinationals companies on the FCPA and other anti-corruption laws.  Douglas has over 30 years' experience at large and medium size firms in the U.S. and Thailand.  His practice focuses on contentious matters (including a seven-week jury trial in the U.S. and international arbitrations)\, corporate and commercial matters and compliance work.\n	Shin Honma\, Forensic Services Partner\, PricewaterhouseCoopers Thailand. Shin possesses over 20 years of experience assisting global companies with issues related to fraud\, bribery and corruption\, employee misconduct\, crisis management\, and risk management. Shin spent the first 14 years of his career working in the United States\, and over the last 7 years\, he has been based in Asia. Shin has been based in Bangkok since January 2020. \n	John Frangos\, Partner\, Tilleke & Gibbins. John is a New York qualified lawyer and partner and deputy director of Tilleke & Gibbins' dispute resolution group. From the firm's head office in Bangkok\, he assists clients on complex disputes in Southeast Asia\, including cross-border commercial litigation\, regulatory and corporate investigations\, white-collar crime and anti-corruption\, aviation disputes\, bankruptcy and restructuring litigation\, and arbitration. He co-leads the firm's compliance and investigations practice and leads the firm's aviation practice.
X-ALT-DESC;FMTTYPE=text/html:<div apple="" color="" div="" font-size:="" segoe="" ui="">\n<p>In July 0f 2020\, the U.S. Department of Justice (DOJ) and the U.S. Securities and Exchange Commission (SEC)\,&nbsp\;released the second edition of its resource guide on the U.S. Foreign Corrupt Practices Act (FCPA). This is only the second resource guide issued by the DOJ and the SEC on the FCPA and updates the first resource guide issued eight years ago\, in 2012. &nbsp\;</p>\n\n<p>Understanding the FCPA and Thai anti-corruption laws is critical to everyone doing business in Thailand.&nbsp\; Financial penalties for FCPA violations have increased substantially\, with an estimated 2.9 billion in fines imposed for violations that involved Asia Pacific\, including Thailand. And a DOJ official announced in 2019 that the DOJ will focus on individuals responsible for FCPA violations\, stating &quot\;the most effective deterrent to corporate criminal conduct is identifying people who commit crimes and sending them to prison&quot\;</p>\n\n<p>Stay current on this challenging subject with our panel of experts on the FCPA and Thai anti-corruption laws. The panel will include a senior compliance officer from Chevron\, Sangita Patel\, who will join from the U.S. and provide an in-house perspective on the compliance challenges presented by the FCPA\; Douglas Mancill\, who has worked with U.S.\, European and Japanese multinationals on the FCPA and other anti-corruption laws for over thirty years\; Shin Honma\, who leads the Risk Consulting and Forensic Services practice for PcW Thailand\; and John Frangos\, a partner at Tilleke who co-leads the firm&#39\;s compliance and investigations practice.</p>\n\n<p>&nbsp\;</p>\n\n<p><strong>About the Speakers:</strong></p>\n\n<ul>\n	<li><a href="https://www.linkedin.com/in/sangita-patel925/" rel="noreferrer noopener" tabindex="-1" target="_blank" title="https://www.linkedin.com/in/sangita-patel925/">Sangita Patel</a>\, Deputy Chief Compliance Officer\, Chevron. Ms. Patel has been with Chevron since 2005 and has helped develop and enhance the compliance program at Chevron. She&nbsp\;is the subject matter expert for Chevron on global anti-corruption\, conflict of interest\, trade sanctions/money laundering\, import/export and antiboycott laws and regulations.&nbsp\;</li>\n	<li><a href="https://www.linkedin.com/in/douglas-mancill-62988bb/" rel="noreferrer noopener" tabindex="-1" target="_blank" title="https://www.linkedin.com/in/douglas-mancill-62988bb/">Douglas Mancill</a>\, Partner\, Mulvana de Angeli &amp\; Associates. He is&nbsp\;a dual national (Thai and the U.S.) California qualified lawyer who handled his first FCPA matter before he was seconded to Thailand in 1998.&nbsp\; He has decades of on the ground experience in Thailand conducting compliance reviews and providing advice to U.S.\, European and Japanese multinationals companies on the FCPA and other anti-corruption laws.&nbsp\; Douglas has over 30 years&#39\;&nbsp\;experience at large and medium size firms in the U.S. and Thailand.&nbsp\; His practice focuses on contentious matters (including a seven-week jury trial in the U.S. and international arbitrations)\, corporate and commercial matters and compliance work.</li>\n	<li><a href="https://www.linkedin.com/in/shin-honma-041865/" rel="noreferrer noopener" tabindex="-1" target="_blank" title="https://www.linkedin.com/in/shin-honma-041865/">Shin Honma</a>\, Forensic Services Partner\, PricewaterhouseCoopers Thailand.&nbsp\;Shin possesses over 20 years of experience assisting global companies with issues related to fraud\, bribery and corruption\, employee misconduct\, crisis management\, and risk management. Shin spent the first 14 years of his career working in the United States\, and over the last 7 years\, he has been based in Asia. Shin has been based in Bangkok since January 2020.&nbsp\;</li>\n	<li><a href="https://www.linkedin.com/in/john-frangos-12672a5/" rel="noreferrer noopener" tabindex="-1" target="_blank" title="https://www.linkedin.com/in/john-frangos-12672a5/">John Frangos</a>\, Partner\, Tilleke &amp\; Gibbins.&nbsp\;John is a New York qualified lawyer and partner and deputy director of Tilleke &amp\; Gibbins&#39\;&nbsp\;dispute resolution group. From the firm&#39\;s head office in Bangkok\, he assists clients on complex disputes in Southeast Asia\, including cross-border commercial litigation\, regulatory and corporate investigations\, white-collar crime and anti-corruption\, aviation disputes\, bankruptcy and restructuring litigation\, and arbitration. He co-leads the firm&#39\;s compliance and investigations practice and leads the firm&#39\;s aviation practice.&nbsp\;</li>\n</ul>\n</div>\n
LOCATION:Video Conference
UID:e.3314.1668
SEQUENCE:3
DTSTAMP:20260422T130612Z
URL:http://www.connect.amchamthailand.com/events/details/legal-committee-what-s-new-in-u-s-thai-anti-corruption-laws-developments-in-enforcement-1668
END:VEVENT

END:VCALENDAR
