BEGIN:VCALENDAR
VERSION:2.0
PRODID:-//ChamberMaster//Event Calendar 2.0//EN
METHOD:PUBLISH
X-PUBLISHED-TTL:P3D
REFRESH-INTERVAL:P3D
CALSCALE:GREGORIAN
BEGIN:VEVENT
DTSTART:20200825T070000Z
DTEND:20200825T080000Z
X-MICROSOFT-CDO-ALLDAYEVENT:FALSE
SUMMARY:Logistics and Supply Chain Working Group Meeting
DESCRIPTION:AMCHAM is convening a logistics and supply chain working group to discuss critical challenges facing this industry in Thailand and identify key improvements. \n\n\n\nThe Covid-19 pandemic has dramatically impacted logistics and supply chain companies\, which are involved in moving\, storing and supplying goods. It was first felt in China and then rippled across the globe as cargo froze and countries went into lockdowns. With product trade and demand sinking both locally and across international borders logistics companies face unprecedented challenges. However\, opportunities have been created as well\, and the health of this industry is vital to the growth of the Thai economy and its competitiveness. \n\n\n\nDuring our meeting\, we will be looking to explore the regulatory barriers and restrictive risk management procedures that are creating bottlenecks for supply chains to better understand the opportunity and needs of our members in this category.  \n\n \n\nWe would also like to assess our members? interest in forming a new group under this header with the aim to support and promote the industry?s development in Thailand. This new group would also work with AMCHAM to engage with relevant government bodies to improve efficiencies in the transport and supply chain processes.
X-ALT-DESC;FMTTYPE=text/html:AMCHAM is convening a&nbsp\;logistics and supply chain&nbsp\;working group&nbsp\;to&nbsp\;discuss&nbsp\;critical challenges facing this&nbsp\;industry&nbsp\;in Thailand and&nbsp\;identify&nbsp\;key improvements.&nbsp\;<br>\n<br>\nThe Covid-19 pandemic has dramatically&nbsp\;impacted&nbsp\;logistics and supply chain companies\, which are involved in moving\, storing and&nbsp\;supplying&nbsp\;goods.&nbsp\;It was first felt in China and then rippled across the globe as cargo froze and countries went into lockdowns. With&nbsp\;product&nbsp\;trade and demand&nbsp\;sinking&nbsp\;both locally and across international borders logistics companies face unprecedented challenges.&nbsp\;However\, opportunities have been created as well\, and the health of this industry is vital to the growth of the Thai economy and its competitiveness.&nbsp\;<br>\n<br>\nDuring our meeting\, we will be looking to explore the&nbsp\;regulatory&nbsp\;barriers and restrictive risk management procedures&nbsp\;that are creating bottlenecks for supply chains&nbsp\;to better understand the opportunity and needs of our members in this category.&nbsp\;&nbsp\;<br>\n&nbsp\;<br>\nWe would also like to&nbsp\;assess&nbsp\;our members? interest&nbsp\;in forming a new group under this header&nbsp\;with the aim to support and promote the industry?s development in Thailand. This new group would&nbsp\;also work with AMCHAM to engage with relevant government bodies&nbsp\;to&nbsp\;improve efficiencies in the transport and supply chain processes.
LOCATION:Online Video Conference
UID:e.3314.1666
SEQUENCE:3
DTSTAMP:20260422T144432Z
URL:http://www.connect.amchamthailand.com/events/details/logistics-and-supply-chain-working-group-meeting-1666
END:VEVENT

END:VCALENDAR
