BEGIN:VCALENDAR
VERSION:2.0
PRODID:-//ChamberMaster//Event Calendar 2.0//EN
METHOD:PUBLISH
X-PUBLISHED-TTL:P3D
REFRESH-INTERVAL:P3D
CALSCALE:GREGORIAN
BEGIN:VEVENT
DTSTART:20230113T030000Z
DTEND:20230113T040000Z
X-MICROSOFT-CDO-ALLDAYEVENT:FALSE
SUMMARY:LTR Visa Consultative Meeting with the BOI
DESCRIPTION:Join us to welcome Dhinapa Apaivongse\, Investment Promotion Officer\, Senior Professional Level\, from the Office of Board of Investment. At the consultation meeting\, she will provide the most recent updates on LTR visa application processes and relevant regulations while AMCHAM members will have an opportunity to share sentiments\, experiences\, and challenges that our AMCHAM community is facing in the LTR visa processes as well as navigate possible solutions to address the issues.\n\n\n\nAMCHAM will be submitting member questions to the BOI in advance. If you would like your question to be raised at the meeting\, please enter it in the registration form or email them to tong@amchamthailand.com before January 11. \n\nAbout Speaker\n\nDhinapa Apaivongse is an Investment Promotion Officer\, Senior Professional Level. She is currently in the LTR team. Dhinapa has a background in investments and services promotion related to the hotel and hospitality sector as well as the light/creative industry. She holds a Bachelor of Arts and Bachelor of Laws (Part-time) from Chulalongkorn University\, and a Master of Politics and Contemporary History\, Nottingham University\, UK.
X-ALT-DESC;FMTTYPE=text/html:<p>Join us to welcome Dhinapa Apaivongse\, Investment Promotion Officer\, Senior Professional Level\, from the Office of Board of Investment. At the consultation meeting\, she will provide the most recent updates on LTR visa application processes and relevant regulations while AMCHAM members will have an opportunity to share sentiments\, experiences\, and challenges that our AMCHAM community is facing in the LTR visa processes as well as navigate possible solutions to address the issues.<br />\n<br />\nAMCHAM will be submitting member questions to the BOI in advance. If you would like your question to be raised at the meeting\, please enter it in the registration form or email them to tong@amchamthailand.com before January 11.&nbsp\;</p>\n\n<p><strong>About Speaker</strong></p>\n\n<p>Dhinapa Apaivongse is an Investment Promotion Officer\, Senior Professional Level. She is currently in the LTR team. Dhinapa has a background in investments and services promotion related to the hotel and hospitality sector as well as the light/creative industry. She holds a Bachelor of Arts and Bachelor of Laws (Part-time) from Chulalongkorn University\, and a Master of Politics and Contemporary History\, Nottingham University\, UK.&nbsp\;</p>\n
LOCATION:Video Conference
UID:e.3314.2465
SEQUENCE:3
DTSTAMP:20260420T105044Z
URL:http://www.connect.amchamthailand.com/events/details/ltr-visa-consultative-meeting-with-the-boi-2465
END:VEVENT

END:VCALENDAR
