BEGIN:VCALENDAR
VERSION:2.0
PRODID:-//ChamberMaster//Event Calendar 2.0//EN
METHOD:PUBLISH
X-PUBLISHED-TTL:P3D
REFRESH-INTERVAL:P3D
CALSCALE:GREGORIAN
BEGIN:VEVENT
DTSTART:20230721T070000Z
DTEND:20230721T090000Z
X-MICROSOFT-CDO-ALLDAYEVENT:FALSE
SUMMARY:Manufacturing Committee: Alliance Laundry Systems Factory Tour
DESCRIPTION:AMCHAM Manufacturing Committee is pleased to invite you for a factory visit to the world leader in commercial laundry\, Alliance Laundry System (Thailand) Co.\, Ltd\, in Chonburi Province. \n\n \n\n\n\nAlliance Laundry System (Thailand) Co.\,Ltd is the latest subsidiary of US -based Alliance Laundry Systems (ALS)\, the world's number one commercial laundry equipment manufacturer. \n\n\n\nAlliance Laundry Systems is the world's leading designer\, manufacturer and marketer of stand alone commercial laundry equipment\, providing our customers with a single source solution for nearly all of their stand alone commercial laundry equipment needs\, producing a full line of commercial washing machines and dryers with load capacities from 15 to 400 pounds\, as well as presses\, ironers and laundry finishing equipment. \n\n \n\n\n\nThe tour will include an introduction to Alliance Laundry (Thailand) Co.\,Ltd \, overview of its Thailand Operations\, safety briefing and facilities tour\, followed by a Q&A session. \n\n\n\nParticipants are required to wear closed-toed shoes and no shorts. PPE will be provided (safety shoes and glasses are mandatory in all production areas).
X-ALT-DESC;FMTTYPE=text/html:AMCHAM Manufacturing Committee is pleased to invite you for a factory visit to the world leader in commercial laundry\,&nbsp\;Alliance Laundry System (Thailand) Co.\, Ltd\, in Chonburi Province.&nbsp\;<br />\n&nbsp\;\n<div>\n<div data-hveid="CB4QAA" data-ved="2ahUKEwjCovC84fX8AhV15nMBHfv1CEcQFSgAegQIHhAA" jsaction="QyLbLe:OMITjf\;xd28Mb:A6j43c" jscontroller="SC7lYd">\n<div data-sokoban-container="ih6Jnb_JcTYzb">\n<div data-content-feature="1" data-sokoban-feature="nke7rc">Alliance Laundry System (Thailand) Co.\,Ltd&nbsp\;is the latest subsidiary of US -based Alliance Laundry Systems (ALS)\, the world&#39\;s number one commercial laundry equipment manufacturer.&nbsp\;<br />\n<br />\nAlliance Laundry Systems is the world&#39\;s leading designer\, manufacturer and marketer of stand alone commercial laundry equipment\, providing our customers with a single source solution for nearly all of their stand alone commercial laundry equipment needs\, producing&nbsp\;a full line of commercial washing machines and dryers with load capacities from 15 to 400 pounds\, as well as presses\, ironers and laundry finishing equipment.&nbsp\;</div>\n\n<div data-content-feature="1" data-sokoban-feature="nke7rc">&nbsp\;</div>\n</div>\n</div>\n</div>\nThe tour will include an introduction to Alliance Laundry (Thailand) Co.\,Ltd \, overview of its Thailand Operations\, safety briefing and facilities tour\, followed by a Q&amp\;A session.<strong>&#8203\;</strong><br />\n<br />\nParticipants are required to wear closed-toed shoes and no shorts. PPE will be provided (safety shoes and glasses are mandatory in all production areas).
LOCATION:Alliance Laundry System (Thailand) Co.\,Ltd Please note that transportation to and from the venue will not be provided by AMCHAM. Participants will meet onsite at the Alliance Laundry System (Thailand) Co.\,Ltd in Chonburi Province.
UID:e.3314.2409
SEQUENCE:3
DTSTAMP:20260419T235735Z
URL:http://www.connect.amchamthailand.com/events/details/manufacturing-committee-alliance-laundry-systems-factory-tour-2409
END:VEVENT

END:VCALENDAR
