BEGIN:VCALENDAR
VERSION:2.0
PRODID:-//ChamberMaster//Event Calendar 2.0//EN
METHOD:PUBLISH
X-PUBLISHED-TTL:P3D
REFRESH-INTERVAL:P3D
CALSCALE:GREGORIAN
BEGIN:VEVENT
DTSTART:20231124T070000Z
DTEND:20231124T080000Z
X-MICROSOFT-CDO-ALLDAYEVENT:FALSE
SUMMARY:Manufacturing Committee: Factory Floor Internet of Things and Digital Transformation
DESCRIPTION:We hear a lot about smart factories\, smart cities\, and other smart concepts. We also hear a lot about digital transformation. But how do we turn "dumb" equipment and and systems into smart devices\, collect the information\, and synthesize it into actionable information to achieve the promise of a smart system or ecosystem? What is the Internet of Things (IoT) and how does IoT fit into the Smart ecosystem?\n\n \n\nJoin us for a thoughtful conversation about transforming factories\, cities\, buildings\, and other systems into smart ecosystems to achieve greater efficiency\, reliability\, responsiveness\, energy savings\, and innovation.\n\n \n\nAbout the Speaker\n\nEgils Rubenis is the CEO of integrationWorks Asia Co.\, Ltd. His career spans across IBM\, Deutsche Bank\, UniCredit\, Federal / State Banks\, BMW\, etc. He is an entrepreneur operating IT companies an Bangkok and Berlin\, and has extensive experience as an Enterprise Solutions Architect implementing solutions for Market & Investment Banking\, Commercial Banking\, and the Automotive Industry.
X-ALT-DESC;FMTTYPE=text/html:We hear a lot about smart factories\, smart cities\, and other smart concepts. We also hear a lot about digital transformation. But how do we turn &ldquo\;dumb&rdquo\; equipment and and systems into smart devices\, collect the information\, and synthesize it into actionable information to achieve the promise of a smart system or ecosystem? What is the Internet of Things (IoT) and how does IoT fit into the Smart ecosystem?<br />\n&nbsp\;<br />\nJoin us for a thoughtful conversation about transforming factories\, cities\, buildings\, and other systems into smart ecosystems to achieve greater efficiency\, reliability\, responsiveness\, energy savings\, and innovation.<br />\n&nbsp\;<br />\n<strong>About the Speaker</strong><br />\n<a href="https://www.linkedin.com/in/egils-janis-rubenis-95932624/?originalSubdomain=th">Egils Rubenis</a> is the CEO of integrationWorks Asia Co.\, Ltd. His career spans across IBM\, Deutsche Bank\, UniCredit\, Federal / State Banks\, BMW\, etc. He is an entrepreneur operating IT companies an Bangkok and Berlin\, and has extensive experience as an Enterprise Solutions Architect implementing solutions for Market &amp\; Investment Banking\, Commercial Banking\, and the Automotive Industry.
LOCATION:Online Webinar
UID:e.3314.2628
SEQUENCE:3
DTSTAMP:20260419T170214Z
URL:http://www.connect.amchamthailand.com/events/details/manufacturing-committee-factory-floor-internet-of-things-and-digital-transformation-2628
END:VEVENT

END:VCALENDAR
