BEGIN:VCALENDAR
VERSION:2.0
PRODID:-//ChamberMaster//Event Calendar 2.0//EN
METHOD:PUBLISH
X-PUBLISHED-TTL:P3D
REFRESH-INTERVAL:P3D
CALSCALE:GREGORIAN
BEGIN:VEVENT
DTSTART:20240119T070000Z
DTEND:20240119T090000Z
X-MICROSOFT-CDO-ALLDAYEVENT:FALSE
SUMMARY:Manufacturing Committee: Factory Visit to Kenvue (J&J Consumer Health Company)
DESCRIPTION:AMCHAM Manufacturing Committee is pleased to invite you for a factory visit to Kenvue (Thailand) the world's largest pure-play consumer health company by revenue. Built on more than a century of heritage and propelled forward by science\, their iconic brands including Aveeno \, BAND-AID  Brand Adhesive Bandages\, Johnson's \, Listerine \, Neutrogena \, Tylenol  and Zyrtec \, are recommended by health care professionals and can be trusted by consumers who use our products to improve their daily lives. \n\n\n\n \n\n\n\nThe tour will include an introduction to Kenvue (Thailand)\, overview of its Thailand Operations\, safety briefing and facilities tour\, followed by a Q&A session.
X-ALT-DESC;FMTTYPE=text/html:AMCHAM Manufacturing Committee is pleased to invite you for a factory visit to Kenvue (Thailand) the world&#39\;s largest pure-play consumer health company by revenue. Built on more than a century of heritage and propelled forward by science\, their iconic brands including Aveeno&reg\;\, BAND-AID&reg\; Brand Adhesive Bandages\, Johnson&#39\;s&reg\;\, Listerine&reg\;\, Neutrogena&reg\;\, Tylenol&reg\; and Zyrtec&reg\;\, are recommended by health care professionals and can be trusted by consumers who use our products to improve their daily lives.&nbsp\;\n<div>\n<div data-hveid="CB4QAA" data-ved="2ahUKEwjCovC84fX8AhV15nMBHfv1CEcQFSgAegQIHhAA" jsaction="QyLbLe:OMITjf\;xd28Mb:A6j43c" jscontroller="SC7lYd">\n<div data-sokoban-container="ih6Jnb_JcTYzb">\n<div data-content-feature="1" data-sokoban-feature="nke7rc">&nbsp\;</div>\n</div>\n</div>\n</div>\nThe tour will include an introduction to Kenvue (Thailand)\, overview of its Thailand Operations\, safety briefing and facilities tour\, followed by a Q&amp\;A session.&#8203\;
LOCATION:Kenvue (Thailand) Please note that transportation to and from the venue will not be provided by AMCHAM. Participants will meet onsite at the Kenvue (Thailand)\, in Lad Krabang District.
UID:e.3314.2707
SEQUENCE:3
DTSTAMP:20260419T135443Z
URL:http://www.connect.amchamthailand.com/events/details/manufacturing-committee-factory-visit-to-kenvue-j-j-consumer-health-company-2707
END:VEVENT

END:VCALENDAR
