BEGIN:VCALENDAR
VERSION:2.0
PRODID:-//ChamberMaster//Event Calendar 2.0//EN
METHOD:PUBLISH
X-PUBLISHED-TTL:P3D
REFRESH-INTERVAL:P3D
CALSCALE:GREGORIAN
BEGIN:VEVENT
DTSTART:20231019T070000Z
DTEND:20231019T080000Z
X-MICROSOFT-CDO-ALLDAYEVENT:FALSE
SUMMARY:Manufacturing Committee - Financial Empowerment Through Knowledge: A Win-Win for Employees and Employers
DESCRIPTION:Despite rising wages\, high demand for labor\, and consistently low unemployment\, Thailand employees continue to struggle to balance their income and expenses and avoid excessive debt or entrapment by predatory loan sharks.\n\n \n\nJoin us for a thoughtful conversation about the financial empowerment of employees\, and tools and resources to support employees and employers to create a sustainable employment experience with high work satisfaction and motivation and low turnover.\n\n\n\nAbout the Speaker\n\nLyn Kok is the founder of the fintech digital lending platform business "MULA" which is focused on the underbanked and underserved communities in Thailand\, with the aspiration to expand throughout SEA. Until September 2016\, she was President and Chief Executive Officer for Standard Chartered Bank (Thai)\, an appointment she held since July 2010\, where she oversaw the bank's business in Thailand as well as Cambodia\, Myanmar\, Laos and Vietnam. Immediately prior\, she was Managing Director and General Manager\, Beijing for Standard Chartered Bank in China for 7 years.\n\n \n\nIn 2012\, she was awarded International Company CEO of the Year by Bloomberg Businessweek Thailand.\n\n \n\nA graduate of University of Toronto Trinity College\, Lyn also recently completed an accreditation certificate program with Stanford Graduate School of Business\, Executive Programme with Singularity University\, and Blockchain Strategies with Oxford University Said School of Business.
X-ALT-DESC;FMTTYPE=text/html:Despite rising wages\, high demand for labor\, and consistently low unemployment\, Thailand employees continue to struggle to balance their income and expenses and avoid excessive debt or entrapment by predatory loan sharks.<br />\n&nbsp\;<br />\nJoin us for a thoughtful conversation about the financial empowerment of employees\, and tools and resources to support employees and employers to create a sustainable employment experience with high work satisfaction and motivation and low turnover.<br />\n<br />\n<strong font-size:="" helvetica="" open="" style="color: rgb(0\, 0\, 0)\;">About the Speaker</strong><br />\n<a href="https://www.linkedin.com/in/lynkok/?original_referer=https%3A%2F%2Fwww%2Egoogle%2Ecom%2F&amp\;originalSubdomain=th">Lyn Kok</a> is the founder of the fintech digital lending platform business &ldquo\;MULA&rdquo\; which is focused on the underbanked and underserved communities in Thailand\, with the aspiration to expand throughout SEA. Until September 2016\, she was President and Chief Executive Officer for Standard Chartered Bank (Thai)\, an appointment she held since July 2010\, where she oversaw the bank&rsquo\;s business in Thailand as well as Cambodia\, Myanmar\, Laos and Vietnam. Immediately prior\, she was Managing Director and General Manager\, Beijing for Standard Chartered Bank in China for 7 years.<br />\n&nbsp\;<br />\nIn 2012\, she was awarded International Company CEO of the Year by Bloomberg Businessweek Thailand.<br />\n&nbsp\;<br />\nA graduate of University of Toronto Trinity College\, Lyn also recently completed an accreditation certificate program with Stanford Graduate School of Business\, Executive Programme with Singularity University\, and Blockchain Strategies with Oxford University Said School of Business.
LOCATION:Online Webinar
UID:e.3314.2627
SEQUENCE:3
DTSTAMP:20260419T170230Z
URL:http://www.connect.amchamthailand.com/events/details/manufacturing-committee-financial-empowerment-through-knowledge-a-win-win-for-employees-and-employers-2627
END:VEVENT

END:VCALENDAR
